BEGIN:VCALENDAR
VERSION:2.0
PRODID:-//AGNS | Art Gallery of Nova Scotia - ECPv6.15.20//NONSGML v1.0//EN
CALSCALE:GREGORIAN
METHOD:PUBLISH
X-ORIGINAL-URL:https://agns.ca
X-WR-CALDESC:Events for AGNS | Art Gallery of Nova Scotia
REFRESH-INTERVAL;VALUE=DURATION:PT1H
X-Robots-Tag:noindex
X-PUBLISHED-TTL:PT1H
BEGIN:VTIMEZONE
TZID:America/Halifax
BEGIN:DAYLIGHT
TZOFFSETFROM:-0400
TZOFFSETTO:-0300
TZNAME:ADT
DTSTART:20220313T060000
END:DAYLIGHT
BEGIN:STANDARD
TZOFFSETFROM:-0300
TZOFFSETTO:-0400
TZNAME:AST
DTSTART:20221106T050000
END:STANDARD
BEGIN:DAYLIGHT
TZOFFSETFROM:-0400
TZOFFSETTO:-0300
TZNAME:ADT
DTSTART:20230312T060000
END:DAYLIGHT
BEGIN:STANDARD
TZOFFSETFROM:-0300
TZOFFSETTO:-0400
TZNAME:AST
DTSTART:20231105T050000
END:STANDARD
BEGIN:DAYLIGHT
TZOFFSETFROM:-0400
TZOFFSETTO:-0300
TZNAME:ADT
DTSTART:20240310T060000
END:DAYLIGHT
BEGIN:STANDARD
TZOFFSETFROM:-0300
TZOFFSETTO:-0400
TZNAME:AST
DTSTART:20241103T050000
END:STANDARD
END:VTIMEZONE
BEGIN:VEVENT
DTSTART;TZID=America/Halifax:20231013T170000
DTEND;TZID=America/Halifax:20231013T180000
DTSTAMP:20260419T221513
CREATED:20231004T191013Z
LAST-MODIFIED:20231004T191014Z
UID:10000070-1697216400-1697220000@agns.ca
SUMMARY:Nocturne Artist Talk - Roda Medhat
DESCRIPTION:Roda Medhat is a Kurdish-Canadian artist\, currently based in Toronto\, Ontario. He obtained a Bachelor of Fine Arts degree from OCAD University\, where he specialized in video art\, photography\, and sculpture/installation work. He also honed his skills in film production at FAMU Film and Television School in Prague. \n\n\n\nRoda’s diverse body of work has been exhibited in galleries around the world\, including the Osaka University of Art in Japan (2017) and OFF_Festival in Bratislava\, Slovakia as part of the European Month of Photography (2017). He has also displayed his sculpture\, installation\, and film work in various galleries throughout Ontario. In 2022\, his sculpture FARSH was featured at Toronto’s Nuit Blanche\, a highly respected annual event\, receiving widespread acclaim in both local media. \n\n\n\nAs an artist who values accessibility\, Roda designs sculptures that everyone can appreciate\, transcending the confines of formal art institutions. His creative vision often centres on the experience of being a child of the 1.5 generation\, exploring the complexities of living between cultures. Through his art\, Roda seeks to bridge cultural divides and promote a sense of shared human experience. His dedication to creating socially impactful and visually stunning art underscores his commitment to advancing the boundaries of contemporary art.
URL:https://agns.ca/event/nocturne-artist-talk-roda-medhat/
CATEGORIES:Artist Talk,Special Events
ATTACH;FMTTYPE=image/png:https://agns.ca/wp-content/uploads/2023/10/Screen-Shot-2023-10-04-at-4.08.11-PM.png
END:VEVENT
BEGIN:VEVENT
DTSTART;TZID=America/Halifax:20231013T150000
DTEND;TZID=America/Halifax:20231013T160000
DTSTAMP:20260419T221513
CREATED:20231004T190741Z
LAST-MODIFIED:20231004T190742Z
UID:10000069-1697209200-1697212800@agns.ca
SUMMARY:Nocturne Artist Talk - Corrie Peters
DESCRIPTION:Corrie Peters (she/her) is an artist in conversation with social practice\, fibre art and installation\, among other mediums. Her artwork is building relationships that teach her how to listen to and learn from those often silenced through current systems of power. In this she holds so much gratitude for all those who have\, and continue to\, teach her about empathy\, activism\, change and care. The publicly displayed pieces are the documentation of Corrie’s artwork – translating what she has learnt to a larger audience. These are often layered projects that involve time\, both as a medium\, and as a component of viewing. Corrie lives as an uninvited guest with her family\, on the unceded land of the lək̓ʷəŋən people. Her work has been supported by grants from The Canada Council for the Arts\, Social Science and Humanities Research\, among others\, as well as through residencies at the Santa Fe Art Institute and Salt Spring Arts Council. She also won the inaugural Salt Spring National Art Prize.
URL:https://agns.ca/event/nocturne-artist-talk-corrie-peters/
CATEGORIES:Artist Talk,Special Events
ATTACH;FMTTYPE=image/png:https://agns.ca/wp-content/uploads/2023/10/Screen-Shot-2023-10-04-at-4.01.50-PM.png
END:VEVENT
BEGIN:VEVENT
DTSTART;TZID=America/Halifax:20231013T130000
DTEND;TZID=America/Halifax:20231013T140000
DTSTAMP:20260419T221513
CREATED:20231004T190126Z
LAST-MODIFIED:20231004T190127Z
UID:10000068-1697202000-1697205600@agns.ca
SUMMARY:Nocturne Artist Talk - Erasure Art Collective
DESCRIPTION:Erasure Art Collective (EAC) is an interdisciplinary arts group committed to researching and reinterpreting archival texts using visual\, poetic\, and performative erasure. Co-founders Shauntay Grant and Tyshan Wright have been collaborating and exhibiting together since 2017 when they created the multimedia artwork ‘Abeng’ for Canada: Day 1\, a national group exhibition presented by the Canadian Museum of Immigration at Pier 21. EAC’s inaugural project\, called BLACKOUT\, has been presented at Nocturne (2022)\, Atlantic Arts Symposium (2022)\, and the Canadian Association for Theatre Research Conference (2023). As artists with ancestral ties to the arrival of Black Loyalists\, Jamaican Maroons\, and Black Refugees to Nova Scotia in the late 1700s and early 1800s\, creating art that illuminates African Nova Scotian and African diasporic histories and experiences is a vital part of EAC’s research and creative work. The collective’s work is multilayered and highlights a research-creation approach to interpreting archival texts\, with BLACKOUT championing a multidisciplinary creative approach to the study and presentation of slavery in Atlantic Canada.
URL:https://agns.ca/event/nocturne-artist-talk-erasure-art-collective/
CATEGORIES:Artist Talk,Special Events
ATTACH;FMTTYPE=image/png:https://agns.ca/wp-content/uploads/2023/10/Screen-Shot-2023-10-04-at-4.00.03-PM.png
END:VEVENT
END:VCALENDAR