BEGIN:VCALENDAR
VERSION:2.0
PRODID:-//AGNS | Art Gallery of Nova Scotia - ECPv6.15.20//NONSGML v1.0//EN
CALSCALE:GREGORIAN
METHOD:PUBLISH
X-ORIGINAL-URL:https://agns.ca
X-WR-CALDESC:Events for AGNS | Art Gallery of Nova Scotia
REFRESH-INTERVAL;VALUE=DURATION:PT1H
X-Robots-Tag:noindex
X-PUBLISHED-TTL:PT1H
BEGIN:VTIMEZONE
TZID:America/Halifax
BEGIN:DAYLIGHT
TZOFFSETFROM:-0400
TZOFFSETTO:-0300
TZNAME:ADT
DTSTART:20230312T060000
END:DAYLIGHT
BEGIN:STANDARD
TZOFFSETFROM:-0300
TZOFFSETTO:-0400
TZNAME:AST
DTSTART:20231105T050000
END:STANDARD
BEGIN:DAYLIGHT
TZOFFSETFROM:-0400
TZOFFSETTO:-0300
TZNAME:ADT
DTSTART:20240310T060000
END:DAYLIGHT
BEGIN:STANDARD
TZOFFSETFROM:-0300
TZOFFSETTO:-0400
TZNAME:AST
DTSTART:20241103T050000
END:STANDARD
BEGIN:DAYLIGHT
TZOFFSETFROM:-0400
TZOFFSETTO:-0300
TZNAME:ADT
DTSTART:20250309T060000
END:DAYLIGHT
BEGIN:STANDARD
TZOFFSETFROM:-0300
TZOFFSETTO:-0400
TZNAME:AST
DTSTART:20251102T050000
END:STANDARD
END:VTIMEZONE
BEGIN:VTIMEZONE
TZID:UTC
BEGIN:STANDARD
TZOFFSETFROM:+0000
TZOFFSETTO:+0000
TZNAME:UTC
DTSTART:20230101T000000
END:STANDARD
END:VTIMEZONE
BEGIN:VEVENT
DTSTART;TZID=America/Halifax:20241208T130000
DTEND;TZID=America/Halifax:20241208T160000
DTSTAMP:20260421T165527
CREATED:20240807T142951Z
LAST-MODIFIED:20240809T174532Z
UID:10000108-1733662800-1733673600@agns.ca
SUMMARY:Make Day! Make and Share
DESCRIPTION:We’re thinking small in size\, big in quantity! We’ll create custom magnets\, personalized buttons\, and unique vinyl stickers\, using a variety of drawing and collage materials. Make some for yourself and for your friends! Get creative and explore making and multiples with us.  \n\n\n\nWork independently\, or with your small group\, this program is great for children ages 5+ with an adult. Drop-in\, included with the price of admission. \n\n\n\nAbout the program: \n\n\n\nMake Day is a studio program for emerging artists of all ages! Designed as an intergenerational art workshop\, these sessions lead participants in a short art lesson that introduces an art technique or process\, resulting in a fun art piece you can take home. A great way to get connected\, inspired\, and creative with friends or family. Each month’s activity is inspired by works in an exhibition currently on view.
URL:https://agns.ca/event/make-day-make-and-share/
CATEGORIES:Make Day!
ATTACH;FMTTYPE=image/png:https://agns.ca/wp-content/uploads/2024/02/June-Make-Day-option-268.png
END:VEVENT
BEGIN:VEVENT
DTSTART;TZID=UTC:20241213T190000
DTEND;TZID=UTC:20241213T213000
DTSTAMP:20260421T165527
CREATED:20240807T170335Z
LAST-MODIFIED:20241127T173040Z
UID:10000113-1734116400-1734125400@agns.ca
SUMMARY:Painting & Pints: LeRoy J. Zwicker - Windy Day on Coast
DESCRIPTION:Everyone is an artist at the AGNS’s adult paint night! Join artist Meggie Richards for a fun evening at the gallery\, as she guides you through making a painting you’ll be proud to take home at the end of the evening.  \n\n\n\nThis winter we’ll focus on a work from the Gallery’s Permanent Collection! Full of cool\, pastel shades and sweeping branches\, you’ll create a unique landscape painting inspired by  LeRoy J. Zwicker’s Windy Day on the Coast\, featuring our very own Halifax coastline. \n\n\n\nDrinks will be available for purchase\, with ID. All materials provided- everything you need to create a one-of-a-kind painting. Bring your friends and come have a blast! 19+ \n\n\n\n\nGet Your Tickets!\n\n\n\n\n\n\n\n\n\n\nAs painted by artist Meggie Richards
URL:https://agns.ca/event/painting-pints-leroy-j-zwicker-windy-day-on-coast/
CATEGORIES:Adult-Only,Halifax Events
ATTACH;FMTTYPE=image/png:https://agns.ca/wp-content/uploads/2023/08/painting-and-pints.png
END:VEVENT
END:VCALENDAR