BEGIN:VCALENDAR
VERSION:2.0
PRODID:-//AGNS | Art Gallery of Nova Scotia - ECPv6.15.20//NONSGML v1.0//EN
CALSCALE:GREGORIAN
METHOD:PUBLISH
X-WR-CALNAME:AGNS | Art Gallery of Nova Scotia
X-ORIGINAL-URL:https://agns.ca
X-WR-CALDESC:Events for AGNS | Art Gallery of Nova Scotia
REFRESH-INTERVAL;VALUE=DURATION:PT1H
X-Robots-Tag:noindex
X-PUBLISHED-TTL:PT1H
BEGIN:VTIMEZONE
TZID:America/Halifax
BEGIN:DAYLIGHT
TZOFFSETFROM:-0400
TZOFFSETTO:-0300
TZNAME:ADT
DTSTART:20230312T060000
END:DAYLIGHT
BEGIN:STANDARD
TZOFFSETFROM:-0300
TZOFFSETTO:-0400
TZNAME:AST
DTSTART:20231105T050000
END:STANDARD
BEGIN:DAYLIGHT
TZOFFSETFROM:-0400
TZOFFSETTO:-0300
TZNAME:ADT
DTSTART:20240310T060000
END:DAYLIGHT
BEGIN:STANDARD
TZOFFSETFROM:-0300
TZOFFSETTO:-0400
TZNAME:AST
DTSTART:20241103T050000
END:STANDARD
BEGIN:DAYLIGHT
TZOFFSETFROM:-0400
TZOFFSETTO:-0300
TZNAME:ADT
DTSTART:20250309T060000
END:DAYLIGHT
BEGIN:STANDARD
TZOFFSETFROM:-0300
TZOFFSETTO:-0400
TZNAME:AST
DTSTART:20251102T050000
END:STANDARD
END:VTIMEZONE
BEGIN:VTIMEZONE
TZID:UTC
BEGIN:STANDARD
TZOFFSETFROM:+0000
TZOFFSETTO:+0000
TZNAME:UTC
DTSTART:20230101T000000
END:STANDARD
END:VTIMEZONE
BEGIN:VEVENT
DTSTART;TZID=America/Halifax:20240914T100000
DTEND;TZID=America/Halifax:20240914T130000
DTSTAMP:20260424T102534
CREATED:20240807T163307Z
LAST-MODIFIED:20240807T163309Z
UID:10000114-1726308000-1726318800@agns.ca
SUMMARY:Weaving with Linnet Finley
DESCRIPTION:Discover the art of tapestry weaving—a perfect hobby for anyone seeking a relaxing creative outlet! In this class\, you’ll craft your own simple peg loom and produce beautiful\, small\, woven wall hangings. With guidance every step of the way\, from setting up and warping the loom to finishing and displaying your artwork. We’ll also delve into various tapestry weaving techniques and learn about composition and design principles. All materials are provided. \n\n\n\n\nPurchase Tickets\n\n\n\n\nAbout the Artist\n\n\n\nLinnet Finley is a community-engaged fibre artist\, educator\, and mother living and working in the North End of Kjipuktuk/Halifax\, NS. With a keen sense of colour\, Linnet produces vibrant and engaging artworks executed with a practiced skill that honours the long tradition of textile and embroidery craft. A self-taught artist\, she has over 20 years of experience honing her craft\, and the act of “making” has always been an integral part of her life. Linnet’s art practice aims to foster community by creating connections.
URL:https://agns.ca/event/weaving-with-linnet-finley/
CATEGORIES:Adult-Only,Art-Making,Workshop
ATTACH;FMTTYPE=image/png:https://agns.ca/wp-content/uploads/2024/08/Weaving-web.png
END:VEVENT
BEGIN:VEVENT
DTSTART;TZID=America/Halifax:20240914T140000
DTEND;TZID=America/Halifax:20240914T170000
DTSTAMP:20260424T102534
CREATED:20240807T163509Z
LAST-MODIFIED:20240807T163511Z
UID:10000115-1726322400-1726333200@agns.ca
SUMMARY:Weaving with Linnet Finley
DESCRIPTION:Discover the art of tapestry weaving—a perfect hobby for anyone seeking a relaxing creative outlet! In this class\, you’ll craft your own simple peg loom and produce beautiful\, small\, woven wall hangings. With guidance every step of the way\, from setting up and warping the loom to finishing and displaying your artwork. We’ll also delve into various tapestry weaving techniques and learn about composition and design principles. All materials are provided. \n\n\n\n\nPurchase Tickets\n\n\n\n\nAbout the Artist\n\n\n\nLinnet Finley is a community-engaged fibre artist\, educator\, and mother living and working in the North End of Kjipuktuk/Halifax\, NS. With a keen sense of colour\, Linnet produces vibrant and engaging artworks executed with a practiced skill that honours the long tradition of textile and embroidery craft. A self-taught artist\, she has over 20 years of experience honing her craft\, and the act of “making” has always been an integral part of her life. Linnet’s art practice aims to foster community by creating connections.
URL:https://agns.ca/event/weaving-with-linnet-finley-2/
CATEGORIES:Adult-Only,Art-Making,Workshop
ATTACH;FMTTYPE=image/png:https://agns.ca/wp-content/uploads/2024/08/Weaving-web.png
END:VEVENT
BEGIN:VEVENT
DTSTART;TZID=America/Halifax:20240915T130000
DTEND;TZID=America/Halifax:20240915T160000
DTSTAMP:20260424T102534
CREATED:20240625T135009Z
LAST-MODIFIED:20240812T153803Z
UID:10000100-1726405200-1726416000@agns.ca
SUMMARY:Make Day! Neon Studio
DESCRIPTION:Take in the colourful and whimsical characters in the exhibition Mitchell Wiebe: VampSites\, then come make your mark in the studio. Led by artist Sherry Lynn Jollymore\, we’ll be playing with neon lights\, glow in the dark paint markers\, and creating neon art together! \n\n\n\nWork independently\, or with your small group\, this program is great for children ages 5+ with an adult. Drop-in\, included with the price of admission. \n\n\n\nAbout the program: \n\n\n\nMake Day is a studio program for emerging artists of all ages! Designed as an intergenerational art workshop\, these sessions lead participants in a short art lesson that introduces an art technique or process\, resulting in a fun art piece you can take home. A great way to get connected\, inspired\, and creative with friends or family. Each month’s activity is inspired by works in an exhibition currently on view.
URL:https://agns.ca/event/make-day-neon-studio/
CATEGORIES:Make Day!
ATTACH;FMTTYPE=image/png:https://agns.ca/wp-content/uploads/2024/06/Neon-Day-Example-Photo-2729.png
END:VEVENT
BEGIN:VEVENT
DTSTART;TZID=America/Halifax:20240921T190000
DTEND;TZID=America/Halifax:20240921T210000
DTSTAMP:20260424T102534
CREATED:20240724T172209Z
LAST-MODIFIED:20240731T152504Z
UID:10000078-1726945200-1726952400@agns.ca
SUMMARY:G.L.A.M. Bats at AGNS
DESCRIPTION:A performance somewhere between burlesque and a musical about galleries\, exists rock ballads by G.L.A.M. Bats\, featuring Mitchell Wiebe\, Graeme Patterson\, and occasional special guests. \n\n\n\nG.L.A.M. you may wonder?  \n\n\n\nG – galleriesL – librariesA – archivesM – museums  \n\n\n\nThey’ve played shows across the country\, and now at the AGNS! A performance during the VampSites exhibition is sure to be an event like none other.  \n\n\n\nThis event is 19+. Tickets are $20+hst. Limited tickets available. Suggested dress theme is black tie rave. \n\n\n\n\nGet Your Tickets
URL:https://agns.ca/event/g-l-a-m-bats-at-agns/
CATEGORIES:Adult-Only,Halifax Events,Special Events
ATTACH;FMTTYPE=image/jpeg:https://agns.ca/wp-content/uploads/2024/01/Glam-Bats.jpg
END:VEVENT
BEGIN:VEVENT
DTSTART;TZID=America/Halifax:20240926T190000
DTEND;TZID=America/Halifax:20240926T200000
DTSTAMP:20260424T102534
CREATED:20240724T172928Z
LAST-MODIFIED:20240724T172952Z
UID:10000093-1727377200-1727380800@agns.ca
SUMMARY:Key Frames: Women of this Land
DESCRIPTION:Join us for a film screening of Women of This Land!  \n\n\n\nThese episodes feature and celebrate two strikingly impactful Indigenous women\, storyteller shalan joudry (L’nu/Mi’kmaw\, Bear River First Nation\, NS) and Elder Imelda Perley Opolahsomuwehs (Wolastoqi\, Tobique First Nation\, NB). \n\n\n\n\nGet Your Free Tickets\n\n\n\n\n \n\n\n\n“Through this series\, we aim to celebrate the strength\, resilience\, and beauty of Indigenous women\, ensuring their voices are heard and their stories are honoured for generations to come.” – Stephanie Joline \n\n\n\nThis event is presented in partnership with Prismatic Arts Festival. \n\n\n\nWomen of this Land is produced by Peep Media\, and directed by Stephanie Joline (Inuk\, Nunatsiavut\, NL). \n\n\n\nImage courtesy of Peep Media (Producer) and Stephanie Joline (Director). Video still of “Elder Imelda Perley Opolahsomuwehs: Women of this Land\,” 2024.
URL:https://agns.ca/event/key-frames-women-of-this-land/
CATEGORIES:Film Screening
ATTACH;FMTTYPE=image/png:https://agns.ca/wp-content/uploads/2024/06/EIMPO-Key-Frames.png
END:VEVENT
BEGIN:VEVENT
DTSTART;TZID=UTC:20240927T190000
DTEND;TZID=UTC:20240927T213000
DTSTAMP:20260424T102534
CREATED:20240807T165746Z
LAST-MODIFIED:20240925T122934Z
UID:10000109-1727463600-1727472600@agns.ca
SUMMARY:Painting & Pints: Maud Lewis - Tulips
DESCRIPTION:Everyone is an artist at the AGNS’s adult paint night! Join artist Meggie Richards for a fun evening at the gallery\, as she guides you through making a painting you’ll be proud to take home at the end of the evening. On this date you’ll be painting tulips\, inspired by Maud’s Tulips painting. \n\n\n\nDrinks will be available for purchase\, with ID. All materials provided- everything you need to create a one-of-a-kind painting. Bring your friends and come have a blast! 19+ \n\n\n\n\nGet Your Tickets!\n\n\n\n\n\n\n\n\n\n\nAs painted by artist Meggie Richards
URL:https://agns.ca/event/painting-pints-maud-lewis-tulips/
CATEGORIES:Adult-Only,Halifax Events
ATTACH;FMTTYPE=image/png:https://agns.ca/wp-content/uploads/2023/08/painting-and-pints.png
END:VEVENT
END:VCALENDAR