BEGIN:VCALENDAR
VERSION:2.0
PRODID:-//AGNS | Art Gallery of Nova Scotia - ECPv6.15.20//NONSGML v1.0//EN
CALSCALE:GREGORIAN
METHOD:PUBLISH
X-ORIGINAL-URL:https://agns.ca
X-WR-CALDESC:Events for AGNS | Art Gallery of Nova Scotia
REFRESH-INTERVAL;VALUE=DURATION:PT1H
X-Robots-Tag:noindex
X-PUBLISHED-TTL:PT1H
BEGIN:VTIMEZONE
TZID:America/Halifax
BEGIN:DAYLIGHT
TZOFFSETFROM:-0400
TZOFFSETTO:-0300
TZNAME:ADT
DTSTART:20220313T060000
END:DAYLIGHT
BEGIN:STANDARD
TZOFFSETFROM:-0300
TZOFFSETTO:-0400
TZNAME:AST
DTSTART:20221106T050000
END:STANDARD
BEGIN:DAYLIGHT
TZOFFSETFROM:-0400
TZOFFSETTO:-0300
TZNAME:ADT
DTSTART:20230312T060000
END:DAYLIGHT
BEGIN:STANDARD
TZOFFSETFROM:-0300
TZOFFSETTO:-0400
TZNAME:AST
DTSTART:20231105T050000
END:STANDARD
BEGIN:DAYLIGHT
TZOFFSETFROM:-0400
TZOFFSETTO:-0300
TZNAME:ADT
DTSTART:20240310T060000
END:DAYLIGHT
BEGIN:STANDARD
TZOFFSETFROM:-0300
TZOFFSETTO:-0400
TZNAME:AST
DTSTART:20241103T050000
END:STANDARD
END:VTIMEZONE
BEGIN:VEVENT
DTSTART;TZID=America/Halifax:20230716T130000
DTEND;TZID=America/Halifax:20230716T160000
DTSTAMP:20260423T210809
CREATED:20230705T193326Z
LAST-MODIFIED:20230705T193328Z
UID:10000042-1689512400-1689523200@agns.ca
SUMMARY:Make Day! Mark Making & More
DESCRIPTION:Looking to the work of artists Onni Nordman and Melanie Colosimo featured in Inner/Outer Space at the Western Branch\, we’ll explore the Gallery and surrounding areas of Yarmouth to gather rubbings to combine into your own collage.
URL:https://agns.ca/event/make-day-mark-making-more/
CATEGORIES:Make Day!,Yarmouth Events
ATTACH;FMTTYPE=image/png:https://agns.ca/wp-content/uploads/2023/07/collage49.png
END:VEVENT
BEGIN:VEVENT
DTSTART;TZID=America/Halifax:20230723T200000
DTEND;TZID=America/Halifax:20230723T220000
DTSTAMP:20260423T210809
CREATED:20230710T130834Z
LAST-MODIFIED:20230710T130835Z
UID:10000043-1690142400-1690149600@agns.ca
SUMMARY:Life's A Drag - At Neptune Theatre
DESCRIPTION:Sponsored by the AGNS\, Life’s a Drag is an all ages theatrical experience celebrating queer history with Drag Artist Anna Mona-Pia. \n\n\n\nTaking place at Neptune Theatre\, 1593 Argyle St\, Halifax\, NS \n\n\n\n\nGet Tickets
URL:https://agns.ca/event/lifes-a-drag-at-neptune-theatre/
LOCATION:Neptune Theatre\, 1593 Argyle Street\, Halifax\, Nova Scotia\, B3J 2B2\, Canada
CATEGORIES:Special Events
ATTACH;FMTTYPE=image/png:https://agns.ca/wp-content/uploads/2023/07/Screen-Shot-2023-07-10-at-10.07.30-AM.png
END:VEVENT
BEGIN:VEVENT
DTSTART;TZID=America/Halifax:20230727T180000
DTEND;TZID=America/Halifax:20230727T203000
DTSTAMP:20260423T210809
CREATED:20230705T180422Z
LAST-MODIFIED:20230728T165244Z
UID:10000041-1690480800-1690489800@agns.ca
SUMMARY:Pride Art Jam! With the Youth Project
DESCRIPTION:Join us in the studio for a Pride Art Jam with the Youth Project! Bring a friend and express yourself as we paint\, make buttons\, and more. Raphael Chipman will show us how to make prints that celebrate 2SLGBTQIA+ joy and histories. Featuring music\, snacks\, and a few board games for folks feeling less crafty\, come and get creative with us this Pride! \n\n\n\nNo registration required. Drop-in program open to 2SLGBTQIA+ youth ages 12 – 19. The Youth Project requires participants to wear a mask.  \n\n\n\nFor details on accessibility\, check out the Plan Your Visit page. The AGNS is proud to be Rainbow Registered!
URL:https://agns.ca/event/pride-art-jam-with-the-youth-project/
CATEGORIES:Drop-In Art Making,Special Events
ATTACH;FMTTYPE=image/png:https://agns.ca/wp-content/uploads/2023/07/shutterstock_1536583124-V3.png
END:VEVENT
END:VCALENDAR