BEGIN:VCALENDAR
VERSION:2.0
PRODID:-//AGNS | Art Gallery of Nova Scotia - ECPv6.15.20//NONSGML v1.0//EN
CALSCALE:GREGORIAN
METHOD:PUBLISH
X-WR-CALNAME:AGNS | Art Gallery of Nova Scotia
X-ORIGINAL-URL:https://agns.ca
X-WR-CALDESC:Events for AGNS | Art Gallery of Nova Scotia
REFRESH-INTERVAL;VALUE=DURATION:PT1H
X-Robots-Tag:noindex
X-PUBLISHED-TTL:PT1H
BEGIN:VTIMEZONE
TZID:America/Halifax
BEGIN:DAYLIGHT
TZOFFSETFROM:-0400
TZOFFSETTO:-0300
TZNAME:ADT
DTSTART:20250309T060000
END:DAYLIGHT
BEGIN:STANDARD
TZOFFSETFROM:-0300
TZOFFSETTO:-0400
TZNAME:AST
DTSTART:20251102T050000
END:STANDARD
BEGIN:DAYLIGHT
TZOFFSETFROM:-0400
TZOFFSETTO:-0300
TZNAME:ADT
DTSTART:20260308T060000
END:DAYLIGHT
BEGIN:STANDARD
TZOFFSETFROM:-0300
TZOFFSETTO:-0400
TZNAME:AST
DTSTART:20261101T050000
END:STANDARD
BEGIN:DAYLIGHT
TZOFFSETFROM:-0400
TZOFFSETTO:-0300
TZNAME:ADT
DTSTART:20270314T060000
END:DAYLIGHT
BEGIN:STANDARD
TZOFFSETFROM:-0300
TZOFFSETTO:-0400
TZNAME:AST
DTSTART:20271107T050000
END:STANDARD
END:VTIMEZONE
BEGIN:VEVENT
DTSTART;TZID=America/Halifax:20260212T173000
DTEND;TZID=America/Halifax:20260212T183000
DTSTAMP:20260421T102359
CREATED:20260127T170204Z
LAST-MODIFIED:20260127T170205Z
UID:10002051-1770917400-1770921000@agns.ca
SUMMARY:French Tour
DESCRIPTION:In partnership with Alliance Française Halifax\, we invite you to join a guided tour of the exhibitions Blacklight and Ta’n a’sikatikl sipu’l | Confluence in French. \n\n\n\nAdmission is free from 5-9pm during BMO Free Access Thursday\, however registration through AFH is encouraged.  \n\n\n\n\nRegister with Alliance Française\n\n\n\n\n \n\n\n\nClick here for more information about Alliance Française Halifax.  \n\n\n\nFeatured Image: Installation view of Blacklight\, 2025. Taken at the Art Gallery of Nova Scotia.
URL:https://agns.ca/event/french-tour-blacklight-confluence/
CATEGORIES:Special Events
ATTACH;FMTTYPE=image/jpeg:https://agns.ca/wp-content/uploads/2026/01/EX2025-05Blacklight_04-1-scaled.jpg
END:VEVENT
END:VCALENDAR