BEGIN:VCALENDAR
VERSION:2.0
PRODID:-//AGNS | Art Gallery of Nova Scotia - ECPv6.15.20//NONSGML v1.0//EN
CALSCALE:GREGORIAN
METHOD:PUBLISH
X-WR-CALNAME:AGNS | Art Gallery of Nova Scotia
X-ORIGINAL-URL:https://agns.ca
X-WR-CALDESC:Events for AGNS | Art Gallery of Nova Scotia
REFRESH-INTERVAL;VALUE=DURATION:PT1H
X-Robots-Tag:noindex
X-PUBLISHED-TTL:PT1H
BEGIN:VTIMEZONE
TZID:America/Halifax
BEGIN:DAYLIGHT
TZOFFSETFROM:-0400
TZOFFSETTO:-0300
TZNAME:ADT
DTSTART:20240310T060000
END:DAYLIGHT
BEGIN:STANDARD
TZOFFSETFROM:-0300
TZOFFSETTO:-0400
TZNAME:AST
DTSTART:20241103T050000
END:STANDARD
BEGIN:DAYLIGHT
TZOFFSETFROM:-0400
TZOFFSETTO:-0300
TZNAME:ADT
DTSTART:20250309T060000
END:DAYLIGHT
BEGIN:STANDARD
TZOFFSETFROM:-0300
TZOFFSETTO:-0400
TZNAME:AST
DTSTART:20251102T050000
END:STANDARD
BEGIN:DAYLIGHT
TZOFFSETFROM:-0400
TZOFFSETTO:-0300
TZNAME:ADT
DTSTART:20260308T060000
END:DAYLIGHT
BEGIN:STANDARD
TZOFFSETFROM:-0300
TZOFFSETTO:-0400
TZNAME:AST
DTSTART:20261101T050000
END:STANDARD
END:VTIMEZONE
BEGIN:VEVENT
DTSTART;TZID=America/Halifax:20250520T100000
DTEND;TZID=America/Halifax:20250912T170000
DTSTAMP:20260419T105346
CREATED:20250520T111116Z
LAST-MODIFIED:20250915T141237Z
UID:10002026-1747735200-1757696400@agns.ca
SUMMARY:Hands-On Art Making - Nipniku’s: Forest in Bloom 
DESCRIPTION:Drop-in anytime during open hours for hands-on art-making and collaborative creation in Nipniku’s! \n\n\n\nIn the Mi’kmaw lunar calendar\, Nipniku’s (pronounced nib-nee-goos) marks the time of year when the trees are blooming. Inspired by the exhibition From One to Many Natures\, visitors are invited to create their own piece to add to a collaborative artistic forest that represents each one of us and our stories.  \n\n\n\nSuitable for all ages however\, children must always be accompanied by an adult. No registration required but space is limited. Included in the price of admission.
URL:https://agns.ca/event/hands-on-art-making-nipnikus-forest-in-bloom-2/
CATEGORIES:Drop-In Art Making
ATTACH;FMTTYPE=image/jpeg:https://agns.ca/wp-content/uploads/2025/05/Nipnikus-Forest-in-Bloom.jpg
END:VEVENT
BEGIN:VEVENT
DTSTART;TZID=America/Halifax:20250911T173000
DTEND;TZID=America/Halifax:20250911T183000
DTSTAMP:20260419T105346
CREATED:20250820T122319Z
LAST-MODIFIED:20250911T191335Z
UID:10002031-1757611800-1757615400@agns.ca
SUMMARY:French Tour
DESCRIPTION:In partnership with Alliance Française Halifax\, we invite you to join a guided tour of the exhibition Sonia Boyce: Feeling Her Way in French. \n\n\n\nAdmission is free from 5-9pm during BMO Free Access Thursday\, however registration through AFH is encouraged.  \n\n\n\n\nRegister with Alliance Française\n\n\n\n\n \n\n\n\nClick here for more information about Alliance Française Halifax.  \n\n\n\nFeatured Image: Installation view of Sonia Boyce\, Feeling Her Way\, photo by Stoo Metz Photography.
URL:https://agns.ca/event/french-tour-feeling-her-way/
CATEGORIES:Special Events
ATTACH;FMTTYPE=image/jpeg:https://agns.ca/wp-content/uploads/2025/08/Sonia-Boyce-Feeling-Her-Way-Opening-AGNS-©-Photo-Credit-@stoometzphoto-4-scaled.jpg
END:VEVENT
END:VCALENDAR