BEGIN:VCALENDAR
VERSION:2.0
PRODID:-//AGNS | Art Gallery of Nova Scotia - ECPv6.15.20//NONSGML v1.0//EN
CALSCALE:GREGORIAN
METHOD:PUBLISH
X-ORIGINAL-URL:https://agns.ca
X-WR-CALDESC:Events for AGNS | Art Gallery of Nova Scotia
REFRESH-INTERVAL;VALUE=DURATION:PT1H
X-Robots-Tag:noindex
X-PUBLISHED-TTL:PT1H
BEGIN:VTIMEZONE
TZID:America/Halifax
BEGIN:DAYLIGHT
TZOFFSETFROM:-0400
TZOFFSETTO:-0300
TZNAME:ADT
DTSTART:20240310T060000
END:DAYLIGHT
BEGIN:STANDARD
TZOFFSETFROM:-0300
TZOFFSETTO:-0400
TZNAME:AST
DTSTART:20241103T050000
END:STANDARD
BEGIN:DAYLIGHT
TZOFFSETFROM:-0400
TZOFFSETTO:-0300
TZNAME:ADT
DTSTART:20250309T060000
END:DAYLIGHT
BEGIN:STANDARD
TZOFFSETFROM:-0300
TZOFFSETTO:-0400
TZNAME:AST
DTSTART:20251102T050000
END:STANDARD
BEGIN:DAYLIGHT
TZOFFSETFROM:-0400
TZOFFSETTO:-0300
TZNAME:ADT
DTSTART:20260308T060000
END:DAYLIGHT
BEGIN:STANDARD
TZOFFSETFROM:-0300
TZOFFSETTO:-0400
TZNAME:AST
DTSTART:20261101T050000
END:STANDARD
END:VTIMEZONE
BEGIN:VEVENT
DTSTART;TZID=America/Halifax:20250501T173000
DTEND;TZID=America/Halifax:20250501T183000
DTSTAMP:20260421T100501
CREATED:20250116T175222Z
LAST-MODIFIED:20250116T175223Z
UID:10000141-1746120600-1746124200@agns.ca
SUMMARY:French Tour
DESCRIPTION:In partnership with Alliance Française Halifax\, we invite you to join a guided tour of the exhibition Séamus Gallagher: OH BABY in French. \n\n\n\nAdmission is free from 5-9pm during BMO Free Access Thursdays\, however registration through AFH is encouraged. \n\n\n\n\nRegister With Alliance Française\n\n\n\n\nPlease visit their website for more information about Alliance Française.
URL:https://agns.ca/event/french-tour-2/
CATEGORIES:Special Events
ATTACH;FMTTYPE=image/png:https://agns.ca/wp-content/uploads/2024/12/sgallagher_peepshow2.png
END:VEVENT
END:VCALENDAR