BEGIN:VCALENDAR
VERSION:2.0
PRODID:-//AGNS | Art Gallery of Nova Scotia - ECPv6.15.20//NONSGML v1.0//EN
CALSCALE:GREGORIAN
METHOD:PUBLISH
X-WR-CALNAME:AGNS | Art Gallery of Nova Scotia
X-ORIGINAL-URL:https://agns.ca
X-WR-CALDESC:Events for AGNS | Art Gallery of Nova Scotia
REFRESH-INTERVAL;VALUE=DURATION:PT1H
X-Robots-Tag:noindex
X-PUBLISHED-TTL:PT1H
BEGIN:VTIMEZONE
TZID:UTC
BEGIN:STANDARD
TZOFFSETFROM:+0000
TZOFFSETTO:+0000
TZNAME:UTC
DTSTART:20240101T000000
END:STANDARD
END:VTIMEZONE
BEGIN:VEVENT
DTSTART;TZID=UTC:20250425T190000
DTEND;TZID=UTC:20250425T213000
DTSTAMP:20260421T131639
CREATED:20241217T185424Z
LAST-MODIFIED:20250409T130211Z
UID:10000134-1745607600-1745616600@agns.ca
SUMMARY:Painting & Pints: LeRoy J. Zwicker - Wentworth Valley
DESCRIPTION:Everyone is an artist at the AGNS’s adult paint night! Join artist Meggie Richards for a fun evening at the gallery\, as she guides you through making a painting you’ll be proud to take home at the end of the evening.  \n\n\n\nThis winter we’ll focus on a work from the Gallery’s Permanent Collection! Looking to the rolling hills and lush vegetation in LeRoy J. Zwicker’s Wentworth Valley\, we will get inspired to create a bold\, sweeping landscape painting of our own. \n\n\n\nDrinks will be available for purchase\, with ID. All materials provided- everything you need to create a one-of-a-kind painting. Bring your friends and come have a blast! 19+ \n\n\n\n\nGet Your Tickets!\n\n\n\n\n\n\n\n\n\n\nAs painted by artist Zara LeBlanc
URL:https://agns.ca/event/painting-pints-leroy-j-zwicker-wentworth-valley/
CATEGORIES:Adult-Only,Halifax Events
ATTACH;FMTTYPE=image/png:https://agns.ca/wp-content/uploads/2023/08/painting-and-pints.png
END:VEVENT
END:VCALENDAR