BEGIN:VCALENDAR
VERSION:2.0
PRODID:-//AGNS | Art Gallery of Nova Scotia - ECPv6.15.20//NONSGML v1.0//EN
CALSCALE:GREGORIAN
METHOD:PUBLISH
X-WR-CALNAME:AGNS | Art Gallery of Nova Scotia
X-ORIGINAL-URL:https://agns.ca
X-WR-CALDESC:Events for AGNS | Art Gallery of Nova Scotia
REFRESH-INTERVAL;VALUE=DURATION:PT1H
X-Robots-Tag:noindex
X-PUBLISHED-TTL:PT1H
BEGIN:VTIMEZONE
TZID:America/Halifax
BEGIN:DAYLIGHT
TZOFFSETFROM:-0400
TZOFFSETTO:-0300
TZNAME:ADT
DTSTART:20240310T060000
END:DAYLIGHT
BEGIN:STANDARD
TZOFFSETFROM:-0300
TZOFFSETTO:-0400
TZNAME:AST
DTSTART:20241103T050000
END:STANDARD
BEGIN:DAYLIGHT
TZOFFSETFROM:-0400
TZOFFSETTO:-0300
TZNAME:ADT
DTSTART:20250309T060000
END:DAYLIGHT
BEGIN:STANDARD
TZOFFSETFROM:-0300
TZOFFSETTO:-0400
TZNAME:AST
DTSTART:20251102T050000
END:STANDARD
BEGIN:DAYLIGHT
TZOFFSETFROM:-0400
TZOFFSETTO:-0300
TZNAME:ADT
DTSTART:20260308T060000
END:DAYLIGHT
BEGIN:STANDARD
TZOFFSETFROM:-0300
TZOFFSETTO:-0400
TZNAME:AST
DTSTART:20261101T050000
END:STANDARD
END:VTIMEZONE
BEGIN:VEVENT
DTSTART;TZID=America/Halifax:20250209T130000
DTEND;TZID=America/Halifax:20250209T160000
DTSTAMP:20260421T183346
CREATED:20241217T171324Z
LAST-MODIFIED:20241217T171325Z
UID:10000136-1739106000-1739116800@agns.ca
SUMMARY:Make Day! Felt Portraits
DESCRIPTION:Join us in the Studio this Sunday to honour African Heritage Month! Create your own felt portraits using bright colours and different shapes\, while thinking about memory\, legacy\, identity\, and community.  We’ll use decorative stitching and felt scraps to make a textile artwork that shares our family\, ourselves\, and our stories. We’ll turn our finished portrait into a wall hanging to display at home.  Bring a photo of you or your family for inspiration! \n\n\n\nWork independently\, or with your small group\, this program is great for children ages 5+ with an adult. Drop-in\, included with the price of admission. \n\n\n\nAbout the program: \n\n\n\nMake Day is a studio program for emerging artists of all ages! Designed as an intergenerational art workshop\, these sessions lead participants in a short art lesson that introduces an art technique or process\, resulting in a fun art piece you can take home. A great way to get connected\, inspired\, and creative with friends or family. Each month’s activity is inspired by works in an exhibition currently on view.
URL:https://agns.ca/event/make-day-felt-portraits/
CATEGORIES:Art-Making,Make Day!
ATTACH;FMTTYPE=image/jpeg:https://agns.ca/wp-content/uploads/2024/12/Make-Day_Feb-2025_option-4-scaled.jpg
END:VEVENT
END:VCALENDAR