BEGIN:VCALENDAR
VERSION:2.0
PRODID:-//AGNS | Art Gallery of Nova Scotia - ECPv6.15.20//NONSGML v1.0//EN
CALSCALE:GREGORIAN
METHOD:PUBLISH
X-ORIGINAL-URL:https://agns.ca
X-WR-CALDESC:Events for AGNS | Art Gallery of Nova Scotia
REFRESH-INTERVAL;VALUE=DURATION:PT1H
X-Robots-Tag:noindex
X-PUBLISHED-TTL:PT1H
BEGIN:VTIMEZONE
TZID:America/Halifax
BEGIN:DAYLIGHT
TZOFFSETFROM:-0400
TZOFFSETTO:-0300
TZNAME:ADT
DTSTART:20240310T060000
END:DAYLIGHT
BEGIN:STANDARD
TZOFFSETFROM:-0300
TZOFFSETTO:-0400
TZNAME:AST
DTSTART:20241103T050000
END:STANDARD
BEGIN:DAYLIGHT
TZOFFSETFROM:-0400
TZOFFSETTO:-0300
TZNAME:ADT
DTSTART:20250309T060000
END:DAYLIGHT
BEGIN:STANDARD
TZOFFSETFROM:-0300
TZOFFSETTO:-0400
TZNAME:AST
DTSTART:20251102T050000
END:STANDARD
BEGIN:DAYLIGHT
TZOFFSETFROM:-0400
TZOFFSETTO:-0300
TZNAME:ADT
DTSTART:20260308T060000
END:DAYLIGHT
BEGIN:STANDARD
TZOFFSETFROM:-0300
TZOFFSETTO:-0400
TZNAME:AST
DTSTART:20261101T050000
END:STANDARD
END:VTIMEZONE
BEGIN:VEVENT
DTSTART;TZID=America/Halifax:20250109T180000
DTEND;TZID=America/Halifax:20250109T200000
DTSTAMP:20260421T231940
CREATED:20250107T135644Z
LAST-MODIFIED:20250107T135646Z
UID:10000142-1736445600-1736452800@agns.ca
SUMMARY:Drop-in with Youth Project
DESCRIPTION:Join us for a drop-in art-making session for older youth (16+)\, in partnership with the Youth Project. Designed for 2SLGTBQIAP+\, this program aims to engage older youth in arts-based activities. We’ll be creating in the studio\, and have the opportunity to experience the Galleries. Snacks will be offered!   \n\n\n\nPlease note\, this is a masked program for 2SLGBTQIAP+ youth aged 16+!   \n\n\n\n*The Youth Project will be providing masks.   
URL:https://agns.ca/event/drop-in-with-youth-project/
ATTACH;FMTTYPE=image/png:https://agns.ca/wp-content/uploads/2025/01/AGNS-banner69.png
END:VEVENT
END:VCALENDAR