BEGIN:VCALENDAR
VERSION:2.0
PRODID:-//AGNS | Art Gallery of Nova Scotia - ECPv6.15.20//NONSGML v1.0//EN
CALSCALE:GREGORIAN
METHOD:PUBLISH
X-ORIGINAL-URL:https://agns.ca
X-WR-CALDESC:Events for AGNS | Art Gallery of Nova Scotia
REFRESH-INTERVAL;VALUE=DURATION:PT1H
X-Robots-Tag:noindex
X-PUBLISHED-TTL:PT1H
BEGIN:VTIMEZONE
TZID:America/Halifax
BEGIN:DAYLIGHT
TZOFFSETFROM:-0400
TZOFFSETTO:-0300
TZNAME:ADT
DTSTART:20230312T060000
END:DAYLIGHT
BEGIN:STANDARD
TZOFFSETFROM:-0300
TZOFFSETTO:-0400
TZNAME:AST
DTSTART:20231105T050000
END:STANDARD
BEGIN:DAYLIGHT
TZOFFSETFROM:-0400
TZOFFSETTO:-0300
TZNAME:ADT
DTSTART:20240310T060000
END:DAYLIGHT
BEGIN:STANDARD
TZOFFSETFROM:-0300
TZOFFSETTO:-0400
TZNAME:AST
DTSTART:20241103T050000
END:STANDARD
BEGIN:DAYLIGHT
TZOFFSETFROM:-0400
TZOFFSETTO:-0300
TZNAME:ADT
DTSTART:20250309T060000
END:DAYLIGHT
BEGIN:STANDARD
TZOFFSETFROM:-0300
TZOFFSETTO:-0400
TZNAME:AST
DTSTART:20251102T050000
END:STANDARD
END:VTIMEZONE
BEGIN:VEVENT
DTSTART;TZID=America/Halifax:20241121T190000
DTEND;TZID=America/Halifax:20241121T200000
DTSTAMP:20260421T234554
CREATED:20240807T163803Z
LAST-MODIFIED:20240807T163805Z
UID:10000105-1732215600-1732219200@agns.ca
SUMMARY:Key Frames: A Love Letter to Léopold L. Foulem
DESCRIPTION:Join us for a film screening of A Love Letter to Léopold L. Foulem plus visit the artists’ artwork on-view before or after the screening!  \n\n\n\nFilmmaker Renée Blanchar creates a cinematic and heartfelt ode to the dazzling life and career of Acadian ceramicist and folk artist Léopold L. Foulem\, his bucolic New Brunswick studio/summer residence\, and his brilliantly eccentric persona.  \n\n\n\nA Love Letter to Léopold L. Foulem was produced by Ça Tourne Productions Ltée and directed by Renée Blanchar.  \n\n\n\n\nGet Your Free Ticket\n\n\n\n\nAbout the Artist: Léopold L. Foulem\n\n\n\n\n\n    \n                    \n                \n                            \n                            \n                Montréal ceramist Léopold L. Foulem (1945 – 2023) was born in New Brunswick and was known for his rigorous and uncompromising conceptual use of clay. Léopold’s impact on the international ceramics community touched on public speaking\, writing\, and philanthropy. \nLéopold taught ceramics in Montréal at the Collège d’enseignement général et professionnel (CÉGEP) and is widely considered a mentor who created a significant legacy beyond his personal practice. Lynne Wagner\, of the Ceramic Arts Library\, reflects on one facet of his legacy as a “sensitive book collector and humanitarian.” Lecturing extensively on ceramics as an autonomous art form\, Léopold is further known as a world authority on the ceramics of Pablo Picasso. His distinguished career spans more than forty years\, with over fifty-four solo exhibitions and more than 230 group shows on five continents. His ceramics were exhibited in forty-nine museums and are part of numerous private and public collections. \nPhoto courtesy of MNBAQ\, Idra Labrie  \n                                            \n            \n\n\n\n\nAbout the Director: Renée Blanchar\n\n\n\n\n\n    \n                    \n                \n                            \n                            \n                After completing her studies in directing in Paris\, Renée Blanchar returned to Caraquet and began her cinematic journey. In many ways\, her career was a precursor for film in Acadia\, but also for the place of women in television and film. She was the first Canadian woman to enter the FEMIS (European Foundation of Image and Sound) through a contest. In 1989\, she became the youngest juror in the history of the prestigious Cannes Film Festival\, under the presidency of Wim Wenders. Following her key role as writer and director of the television series BELLE-BAIE for five seasons\, she made a remarkable return to television (2021) by writing and directing the first season of the series LE MONDE DE GABRIELLE ROY\, for which she received a nomination in the Best Director category at the 2022 Prix Gémeaux. Renée has directed more than a dozen documentaries that have received numerous awards. Her films (including A PLACE THAT MATTERS\, SHADOW MEN\, THE SILENCE) are distinguished by the strength of their subjects and a singular talent for revealing the humanity of the characters who embody them. The filmmaker took seven years to produce and direct A LOVE LETTRE TO LÉPOLD L. FOULEM\, an intimate film about an important figure from her childhood that will be released in the fall of 2022. Renée’s unlikely bet is to write and direct nearly all of her work from her French-speaking port city residence in eastern Canada. \nPhoto courtesy of the National Film Board of Canada – Julie D’Amour-Léger
URL:https://agns.ca/event/key-frames-a-love-letter-to-leopold-l-foulem/
CATEGORIES:Film Screening
ATTACH;FMTTYPE=image/jpeg:https://agns.ca/wp-content/uploads/2024/08/Leopold-Foulem-Image-2-scaled.jpg
END:VEVENT
END:VCALENDAR