BEGIN:VCALENDAR
VERSION:2.0
PRODID:-//AGNS | Art Gallery of Nova Scotia - ECPv6.15.20//NONSGML v1.0//EN
CALSCALE:GREGORIAN
METHOD:PUBLISH
X-WR-CALNAME:AGNS | Art Gallery of Nova Scotia
X-ORIGINAL-URL:https://agns.ca
X-WR-CALDESC:Events for AGNS | Art Gallery of Nova Scotia
REFRESH-INTERVAL;VALUE=DURATION:PT1H
X-Robots-Tag:noindex
X-PUBLISHED-TTL:PT1H
BEGIN:VTIMEZONE
TZID:America/Halifax
BEGIN:DAYLIGHT
TZOFFSETFROM:-0400
TZOFFSETTO:-0300
TZNAME:ADT
DTSTART:20230312T060000
END:DAYLIGHT
BEGIN:STANDARD
TZOFFSETFROM:-0300
TZOFFSETTO:-0400
TZNAME:AST
DTSTART:20231105T050000
END:STANDARD
BEGIN:DAYLIGHT
TZOFFSETFROM:-0400
TZOFFSETTO:-0300
TZNAME:ADT
DTSTART:20240310T060000
END:DAYLIGHT
BEGIN:STANDARD
TZOFFSETFROM:-0300
TZOFFSETTO:-0400
TZNAME:AST
DTSTART:20241103T050000
END:STANDARD
BEGIN:DAYLIGHT
TZOFFSETFROM:-0400
TZOFFSETTO:-0300
TZNAME:ADT
DTSTART:20250309T060000
END:DAYLIGHT
BEGIN:STANDARD
TZOFFSETFROM:-0300
TZOFFSETTO:-0400
TZNAME:AST
DTSTART:20251102T050000
END:STANDARD
END:VTIMEZONE
BEGIN:VEVENT
DTSTART;TZID=America/Halifax:20241107T173000
DTEND;TZID=America/Halifax:20241107T183000
DTSTAMP:20260421T233958
CREATED:20240723T184002Z
LAST-MODIFIED:20250818T171842Z
UID:10000102-1731000600-1731004200@agns.ca
SUMMARY:French Tour
DESCRIPTION:In partnership with Alliance Française Halifax\, we invite you to join a guided tour of the exhibition Jennifer Marman and Daniel Borins: Three Dimensions in French. \n\n\n\nAdmission is free from 5-9pm during BMO Free Access Thursdays\, however registration through AFH is encouraged. \n\n\n\n\nRegister with Alliance Française\n\n\n\n\n \n\n\n\nPlease visit their website for more information about Alliance Française.
URL:https://agns.ca/event/french-tour-three-dimensions/
CATEGORIES:Special Events
ATTACH;FMTTYPE=image/jpeg:https://agns.ca/wp-content/uploads/2024/07/06-balancing-act-scaled.jpg
END:VEVENT
END:VCALENDAR