BEGIN:VCALENDAR
VERSION:2.0
PRODID:-//AGNS | Art Gallery of Nova Scotia - ECPv6.15.20//NONSGML v1.0//EN
CALSCALE:GREGORIAN
METHOD:PUBLISH
X-WR-CALNAME:AGNS | Art Gallery of Nova Scotia
X-ORIGINAL-URL:https://agns.ca
X-WR-CALDESC:Events for AGNS | Art Gallery of Nova Scotia
REFRESH-INTERVAL;VALUE=DURATION:PT1H
X-Robots-Tag:noindex
X-PUBLISHED-TTL:PT1H
BEGIN:VTIMEZONE
TZID:America/Halifax
BEGIN:DAYLIGHT
TZOFFSETFROM:-0400
TZOFFSETTO:-0300
TZNAME:ADT
DTSTART:20230312T060000
END:DAYLIGHT
BEGIN:STANDARD
TZOFFSETFROM:-0300
TZOFFSETTO:-0400
TZNAME:AST
DTSTART:20231105T050000
END:STANDARD
BEGIN:DAYLIGHT
TZOFFSETFROM:-0400
TZOFFSETTO:-0300
TZNAME:ADT
DTSTART:20240310T060000
END:DAYLIGHT
BEGIN:STANDARD
TZOFFSETFROM:-0300
TZOFFSETTO:-0400
TZNAME:AST
DTSTART:20241103T050000
END:STANDARD
BEGIN:DAYLIGHT
TZOFFSETFROM:-0400
TZOFFSETTO:-0300
TZNAME:ADT
DTSTART:20250309T060000
END:DAYLIGHT
BEGIN:STANDARD
TZOFFSETFROM:-0300
TZOFFSETTO:-0400
TZNAME:AST
DTSTART:20251102T050000
END:STANDARD
END:VTIMEZONE
BEGIN:VEVENT
DTSTART;TZID=America/Halifax:20241019T180000
DTEND;TZID=America/Halifax:20241019T235900
DTSTAMP:20260422T031624
CREATED:20240925T164035Z
LAST-MODIFIED:20241002T181312Z
UID:10000127-1729360800-1729382340@agns.ca
SUMMARY:Nocturne - AGNS at Night
DESCRIPTION:Visit exhibitions including Léopold L. Foulem: Reshaping Function\, Mike MacDonald’s Touched by the Tears of a Butterfly\, 2023 Nova Scotia Art Bank Purchases\, and the Maud Lewis Gallery\, plus join us in the studios for Make It Microcosmic: an immersive Nocturne experience for one night only!
URL:https://agns.ca/event/nocturne-agns-at-night/
CATEGORIES:Halifax Events,Special Events
ATTACH;FMTTYPE=image/jpeg:https://agns.ca/wp-content/uploads/2024/07/6-2022-11-25-AGNS-DC_DTC6816-scaled.jpg
END:VEVENT
END:VCALENDAR