BEGIN:VCALENDAR
VERSION:2.0
PRODID:-//AGNS | Art Gallery of Nova Scotia - ECPv6.15.20//NONSGML v1.0//EN
CALSCALE:GREGORIAN
METHOD:PUBLISH
X-ORIGINAL-URL:https://agns.ca
X-WR-CALDESC:Events for AGNS | Art Gallery of Nova Scotia
REFRESH-INTERVAL;VALUE=DURATION:PT1H
X-Robots-Tag:noindex
X-PUBLISHED-TTL:PT1H
BEGIN:VTIMEZONE
TZID:America/Halifax
BEGIN:DAYLIGHT
TZOFFSETFROM:-0400
TZOFFSETTO:-0300
TZNAME:ADT
DTSTART:20230312T060000
END:DAYLIGHT
BEGIN:STANDARD
TZOFFSETFROM:-0300
TZOFFSETTO:-0400
TZNAME:AST
DTSTART:20231105T050000
END:STANDARD
BEGIN:DAYLIGHT
TZOFFSETFROM:-0400
TZOFFSETTO:-0300
TZNAME:ADT
DTSTART:20240310T060000
END:DAYLIGHT
BEGIN:STANDARD
TZOFFSETFROM:-0300
TZOFFSETTO:-0400
TZNAME:AST
DTSTART:20241103T050000
END:STANDARD
BEGIN:DAYLIGHT
TZOFFSETFROM:-0400
TZOFFSETTO:-0300
TZNAME:ADT
DTSTART:20250309T060000
END:DAYLIGHT
BEGIN:STANDARD
TZOFFSETFROM:-0300
TZOFFSETTO:-0400
TZNAME:AST
DTSTART:20251102T050000
END:STANDARD
END:VTIMEZONE
BEGIN:VEVENT
DTSTART;TZID=America/Halifax:20241010T190000
DTEND;TZID=America/Halifax:20241010T200000
DTSTAMP:20260422T013151
CREATED:20240702T123219Z
LAST-MODIFIED:20240724T172821Z
UID:10000101-1728586800-1728590400@agns.ca
SUMMARY:Creative Minds: Materiality and Indigenous Sovereignty
DESCRIPTION:Join us for a conversation with Mi’kmaw artist and lawyer\, Cheryl Simon! Learn about Simon’s approach to Indigenous material culture through her perspective as a Mi’kmaw e’pit [woman]\, and how traditional Mi’kmaw art forms relate to Indigenous and collective rights.  \n\n\n\nThroughout the conversation\, Cheryl will be weaving a basket with techniques passed down to her by her uncle\, Elder Francis Jadis\, who has been making baskets for 60 years. As an artist with a deep connection to quillwork and basketry\, Simon sources and processes her own materials from start to finish\, exercising her Mi’kmaw rights of cultural material harvesting. \n\n\n\n\nGet Your Free Ticket\n\n\n\n\nLimited tickets available.  \n\n\n\nAbout the Artist\n\n\n\n\n\n    \n                    \n                \n                            \n                            \n                Cheryl Simon is a Mi’kmaq e’pit (woman) from Epekwitk (PEI)\, currently residing in Halifax\, who works with porcupine quills\, birchbark\, spruce root and sweetgrass. \nCheryl fell in love with Mi’kmaq quillwork as a little girl studying her mother’s collection of quill boxes. She started learning and studying the insertion technique and design upon moving back to Mi’kma’ki in 2007\, and launched her business\, Mi’kmaq Quill Art in 2011. Cheryl is committed to community education of the artform and has been teaching quillwork workshops for over ten years. She took on her first apprentice in 2015 and opened a short-term studio in Epekwitk in 2016 to begin a program of instruction for three more apprentices. \nWhile Cheryl focuses on traditional quillwork and construction\, she also developed a process for accurately depicting the petroglyphs (rock carvings) after visiting the petroglyph sites in Nova Scotia. Over the past two years\, she decided to incorporate both traditional designs and the petroglyph technique into the same quillwork pieces. This blending of styles lets her showcase the importance quill size can make in enhancing the detail of the design. \nCheryl was recently inspired by contemporary Mi’kmaq art to move beyond the quill box lids\, which influenced her early work to split the design into separate pieces\, adding a vibrancy to the designs. She has taught her children to harvest and quill and is excited to begin the process of teaching them the intricacies of designing in the traditional style. She feels that quillwork requires strong connections and is proud that the community of quillers is expanding to include the younger generations. \nImage and basket by Cheryl Simon.
URL:https://agns.ca/event/creative-minds-materiality-and-indigenous-sovereignty/
CATEGORIES:Creative Minds
ATTACH;FMTTYPE=image/png:https://agns.ca/wp-content/uploads/2024/06/Cheryl-Basket.jpg88.png
END:VEVENT
END:VCALENDAR