BEGIN:VCALENDAR
VERSION:2.0
PRODID:-//AGNS | Art Gallery of Nova Scotia - ECPv6.15.20//NONSGML v1.0//EN
CALSCALE:GREGORIAN
METHOD:PUBLISH
X-WR-CALNAME:AGNS | Art Gallery of Nova Scotia
X-ORIGINAL-URL:https://agns.ca
X-WR-CALDESC:Events for AGNS | Art Gallery of Nova Scotia
REFRESH-INTERVAL;VALUE=DURATION:PT1H
X-Robots-Tag:noindex
X-PUBLISHED-TTL:PT1H
BEGIN:VTIMEZONE
TZID:America/Halifax
BEGIN:DAYLIGHT
TZOFFSETFROM:-0400
TZOFFSETTO:-0300
TZNAME:ADT
DTSTART:20230312T060000
END:DAYLIGHT
BEGIN:STANDARD
TZOFFSETFROM:-0300
TZOFFSETTO:-0400
TZNAME:AST
DTSTART:20231105T050000
END:STANDARD
BEGIN:DAYLIGHT
TZOFFSETFROM:-0400
TZOFFSETTO:-0300
TZNAME:ADT
DTSTART:20240310T060000
END:DAYLIGHT
BEGIN:STANDARD
TZOFFSETFROM:-0300
TZOFFSETTO:-0400
TZNAME:AST
DTSTART:20241103T050000
END:STANDARD
BEGIN:DAYLIGHT
TZOFFSETFROM:-0400
TZOFFSETTO:-0300
TZNAME:ADT
DTSTART:20250309T060000
END:DAYLIGHT
BEGIN:STANDARD
TZOFFSETFROM:-0300
TZOFFSETTO:-0400
TZNAME:AST
DTSTART:20251102T050000
END:STANDARD
END:VTIMEZONE
BEGIN:VEVENT
DTSTART;TZID=America/Halifax:20241005T100000
DTEND;TZID=America/Halifax:20241005T130000
DTSTAMP:20260422T012557
CREATED:20240925T122723Z
LAST-MODIFIED:20240925T122725Z
UID:10000118-1728122400-1728133200@agns.ca
SUMMARY:Rug Hooking with Hanna Eidson
DESCRIPTION:Learn to rug hook in this beginner workshop which will cover all the basics of rug hooking and give you plenty of time to practice with the guidance of an experienced instructor. The morning workshop will focus on making bright and colourful fishies\, the afternoon workshop will rug hook a sweet summer fruit  – or get inspired with your own design!  \n\n\n\nNo experience necessary\, and all materials provided.  \n\n\n\n\nGet Your Tickets!\n\n\n\n\nAbout the Artist\n\n\n\nHanna Eidson is a fibre artist who specialises in hand hooked and machine tufted rugs. Originally from San Luis Obispo\, California\, Hanna grew up with a passion for knitting and a variety of other crafts. After moving to Nova Scotia in 2016 Hanna immediately fell in love with rug hooking and that passion has grown into a business where Hanna creates rugs\, kits\, and teaches workshops to get others as excited about rug hooking!
URL:https://agns.ca/event/rug-hooking-with-hanna-eidson-2/
CATEGORIES:Adult-Only,Art-Making,Workshop
ATTACH;FMTTYPE=image/png:https://agns.ca/wp-content/uploads/2024/08/Rug-Hooking.png
END:VEVENT
BEGIN:VEVENT
DTSTART;TZID=America/Halifax:20241005T140000
DTEND;TZID=America/Halifax:20241005T170000
DTSTAMP:20260422T012557
CREATED:20240807T173548Z
LAST-MODIFIED:20240813T185925Z
UID:10000119-1728136800-1728147600@agns.ca
SUMMARY:Rug Hooking with Hanna Eidson
DESCRIPTION:Learn to rug hook in this beginner workshop which will cover all the basics of rug hooking and give you plenty of time to practice with the guidance of an experienced instructor. The morning workshop will focus on making bright and colourful fishies\, the afternoon workshop will rug hook a sweet summer fruit  – or get inspired with your own design!  \n\n\n\nNo experience necessary\, and all materials provided.  \n\n\n\n\nGet Your Tickets!\n\n\n\n\nAbout the Artist\n\n\n\nHanna Eidson is a fibre artist who specialises in hand hooked and machine tufted rugs. Originally from San Luis Obispo\, California\, Hanna grew up with a passion for knitting and a variety of other crafts. After moving to Nova Scotia in 2016 Hanna immediately fell in love with rug hooking and that passion has grown into a business where Hanna creates rugs\, kits\, and teaches workshops to get others as excited about rug hooking!
URL:https://agns.ca/event/rug-hooking-with-hanna-eidson/
CATEGORIES:Adult-Only,Art-Making,Workshop
ATTACH;FMTTYPE=image/png:https://agns.ca/wp-content/uploads/2024/08/Rug-Hooking.png
END:VEVENT
END:VCALENDAR