BEGIN:VCALENDAR
VERSION:2.0
PRODID:-//AGNS | Art Gallery of Nova Scotia - ECPv6.15.20//NONSGML v1.0//EN
CALSCALE:GREGORIAN
METHOD:PUBLISH
X-ORIGINAL-URL:https://agns.ca
X-WR-CALDESC:Events for AGNS | Art Gallery of Nova Scotia
REFRESH-INTERVAL;VALUE=DURATION:PT1H
X-Robots-Tag:noindex
X-PUBLISHED-TTL:PT1H
BEGIN:VTIMEZONE
TZID:America/Halifax
BEGIN:DAYLIGHT
TZOFFSETFROM:-0400
TZOFFSETTO:-0300
TZNAME:ADT
DTSTART:20230312T060000
END:DAYLIGHT
BEGIN:STANDARD
TZOFFSETFROM:-0300
TZOFFSETTO:-0400
TZNAME:AST
DTSTART:20231105T050000
END:STANDARD
BEGIN:DAYLIGHT
TZOFFSETFROM:-0400
TZOFFSETTO:-0300
TZNAME:ADT
DTSTART:20240310T060000
END:DAYLIGHT
BEGIN:STANDARD
TZOFFSETFROM:-0300
TZOFFSETTO:-0400
TZNAME:AST
DTSTART:20241103T050000
END:STANDARD
BEGIN:DAYLIGHT
TZOFFSETFROM:-0400
TZOFFSETTO:-0300
TZNAME:ADT
DTSTART:20250309T060000
END:DAYLIGHT
BEGIN:STANDARD
TZOFFSETFROM:-0300
TZOFFSETTO:-0400
TZNAME:AST
DTSTART:20251102T050000
END:STANDARD
END:VTIMEZONE
BEGIN:VEVENT
DTSTART;TZID=America/Halifax:20240914T100000
DTEND;TZID=America/Halifax:20240914T130000
DTSTAMP:20260423T185145
CREATED:20240807T163307Z
LAST-MODIFIED:20240807T163309Z
UID:10000114-1726308000-1726318800@agns.ca
SUMMARY:Weaving with Linnet Finley
DESCRIPTION:Discover the art of tapestry weaving—a perfect hobby for anyone seeking a relaxing creative outlet! In this class\, you’ll craft your own simple peg loom and produce beautiful\, small\, woven wall hangings. With guidance every step of the way\, from setting up and warping the loom to finishing and displaying your artwork. We’ll also delve into various tapestry weaving techniques and learn about composition and design principles. All materials are provided. \n\n\n\n\nPurchase Tickets\n\n\n\n\nAbout the Artist\n\n\n\nLinnet Finley is a community-engaged fibre artist\, educator\, and mother living and working in the North End of Kjipuktuk/Halifax\, NS. With a keen sense of colour\, Linnet produces vibrant and engaging artworks executed with a practiced skill that honours the long tradition of textile and embroidery craft. A self-taught artist\, she has over 20 years of experience honing her craft\, and the act of “making” has always been an integral part of her life. Linnet’s art practice aims to foster community by creating connections.
URL:https://agns.ca/event/weaving-with-linnet-finley/
CATEGORIES:Adult-Only,Art-Making,Workshop
ATTACH;FMTTYPE=image/png:https://agns.ca/wp-content/uploads/2024/08/Weaving-web.png
END:VEVENT
BEGIN:VEVENT
DTSTART;TZID=America/Halifax:20240914T140000
DTEND;TZID=America/Halifax:20240914T170000
DTSTAMP:20260423T185145
CREATED:20240807T163509Z
LAST-MODIFIED:20240807T163511Z
UID:10000115-1726322400-1726333200@agns.ca
SUMMARY:Weaving with Linnet Finley
DESCRIPTION:Discover the art of tapestry weaving—a perfect hobby for anyone seeking a relaxing creative outlet! In this class\, you’ll craft your own simple peg loom and produce beautiful\, small\, woven wall hangings. With guidance every step of the way\, from setting up and warping the loom to finishing and displaying your artwork. We’ll also delve into various tapestry weaving techniques and learn about composition and design principles. All materials are provided. \n\n\n\n\nPurchase Tickets\n\n\n\n\nAbout the Artist\n\n\n\nLinnet Finley is a community-engaged fibre artist\, educator\, and mother living and working in the North End of Kjipuktuk/Halifax\, NS. With a keen sense of colour\, Linnet produces vibrant and engaging artworks executed with a practiced skill that honours the long tradition of textile and embroidery craft. A self-taught artist\, she has over 20 years of experience honing her craft\, and the act of “making” has always been an integral part of her life. Linnet’s art practice aims to foster community by creating connections.
URL:https://agns.ca/event/weaving-with-linnet-finley-2/
CATEGORIES:Adult-Only,Art-Making,Workshop
ATTACH;FMTTYPE=image/png:https://agns.ca/wp-content/uploads/2024/08/Weaving-web.png
END:VEVENT
END:VCALENDAR