BEGIN:VCALENDAR
VERSION:2.0
PRODID:-//AGNS | Art Gallery of Nova Scotia - ECPv6.15.20//NONSGML v1.0//EN
CALSCALE:GREGORIAN
METHOD:PUBLISH
X-ORIGINAL-URL:https://agns.ca
X-WR-CALDESC:Events for AGNS | Art Gallery of Nova Scotia
REFRESH-INTERVAL;VALUE=DURATION:PT1H
X-Robots-Tag:noindex
X-PUBLISHED-TTL:PT1H
BEGIN:VTIMEZONE
TZID:America/Halifax
BEGIN:DAYLIGHT
TZOFFSETFROM:-0400
TZOFFSETTO:-0300
TZNAME:ADT
DTSTART:20230312T060000
END:DAYLIGHT
BEGIN:STANDARD
TZOFFSETFROM:-0300
TZOFFSETTO:-0400
TZNAME:AST
DTSTART:20231105T050000
END:STANDARD
BEGIN:DAYLIGHT
TZOFFSETFROM:-0400
TZOFFSETTO:-0300
TZNAME:ADT
DTSTART:20240310T060000
END:DAYLIGHT
BEGIN:STANDARD
TZOFFSETFROM:-0300
TZOFFSETTO:-0400
TZNAME:AST
DTSTART:20241103T050000
END:STANDARD
BEGIN:DAYLIGHT
TZOFFSETFROM:-0400
TZOFFSETTO:-0300
TZNAME:ADT
DTSTART:20250309T060000
END:DAYLIGHT
BEGIN:STANDARD
TZOFFSETFROM:-0300
TZOFFSETTO:-0400
TZNAME:AST
DTSTART:20251102T050000
END:STANDARD
END:VTIMEZONE
BEGIN:VEVENT
DTSTART;TZID=America/Halifax:20240315T100000
DTEND;TZID=America/Halifax:20240315T160000
DTSTAMP:20260421T214523
CREATED:20240229T133340Z
LAST-MODIFIED:20240229T134128Z
UID:10000082-1710496800-1710518400@agns.ca
SUMMARY:Button Making on the Ferry - March Break with AGNS
DESCRIPTION:Find us at Alderney Ferry Terminal and Halifax Ferry terminal with a free pop-up art activity. We’ll be offering art kits to folks departing for the ferry\, with a chance to turn your drawing into a button when you arrive in the terminal!  \n\n\n\nFrom 10-11:30am\, and 1-3:30pm we will be sharing kits every half hour (10:00\, 10:30\, 11:00\, 11:30 and 1:00\, 1:30\, 2:00\, 2:30\, 3:00\, 3:30). Just pick up a kit on one side\, make your drawing while riding the ferry\, then return the kit to turn your design into a unique and memorable button! \n\n\n\nAll materials provided. This free art experience is ideally suited for school aged kids and older.
URL:https://agns.ca/event/button-making-march-break-with-agns/
LOCATION:Dartmouth Ferry Terminal\, 88 Alderney Dr\, Dartmouth\, Nova Scotia\, B2Y 4W1\, Canada
CATEGORIES:Drop-In Art Making,Halifax Events,Special Events
ATTACH;FMTTYPE=image/png:https://agns.ca/wp-content/uploads/2024/02/June-Make-Day-option-268.png
END:VEVENT
END:VCALENDAR