BEGIN:VCALENDAR
VERSION:2.0
PRODID:-//AGNS | Art Gallery of Nova Scotia - ECPv6.15.20//NONSGML v1.0//EN
CALSCALE:GREGORIAN
METHOD:PUBLISH
X-WR-CALNAME:AGNS | Art Gallery of Nova Scotia
X-ORIGINAL-URL:https://agns.ca
X-WR-CALDESC:Events for AGNS | Art Gallery of Nova Scotia
REFRESH-INTERVAL;VALUE=DURATION:PT1H
X-Robots-Tag:noindex
X-PUBLISHED-TTL:PT1H
BEGIN:VTIMEZONE
TZID:America/Halifax
BEGIN:DAYLIGHT
TZOFFSETFROM:-0400
TZOFFSETTO:-0300
TZNAME:ADT
DTSTART:20230312T060000
END:DAYLIGHT
BEGIN:STANDARD
TZOFFSETFROM:-0300
TZOFFSETTO:-0400
TZNAME:AST
DTSTART:20231105T050000
END:STANDARD
BEGIN:DAYLIGHT
TZOFFSETFROM:-0400
TZOFFSETTO:-0300
TZNAME:ADT
DTSTART:20240310T060000
END:DAYLIGHT
BEGIN:STANDARD
TZOFFSETFROM:-0300
TZOFFSETTO:-0400
TZNAME:AST
DTSTART:20241103T050000
END:STANDARD
BEGIN:DAYLIGHT
TZOFFSETFROM:-0400
TZOFFSETTO:-0300
TZNAME:ADT
DTSTART:20250309T060000
END:DAYLIGHT
BEGIN:STANDARD
TZOFFSETFROM:-0300
TZOFFSETTO:-0400
TZNAME:AST
DTSTART:20251102T050000
END:STANDARD
END:VTIMEZONE
BEGIN:VEVENT
DTSTART;TZID=America/Halifax:20240314T100000
DTEND;TZID=America/Halifax:20240314T160000
DTSTAMP:20260421T195525
CREATED:20240229T155939Z
LAST-MODIFIED:20240308T153657Z
UID:10000083-1710410400-1710432000@agns.ca
SUMMARY:Button Making - March Break with AGNS
DESCRIPTION:Join us at the library! We’ll help you create a masterpiece of art and turn it into a button you can take home. We’ll explore drawing materials\, collage\, and more and to make something unique to enjoy on the go! \n\n\n\nSessions times:10am–12pm and 1–4pm \n\n\n\nAll materials provided. This free art experience is ideally suited for school aged kids and older. All kids must be accompanied by a guardian.
URL:https://agns.ca/event/button-making-march-break-with-agns-4/
LOCATION:Halifax North Memorial Library\, 2285 Gottingen St\, Halifax\, Nova Scotia\, B3K 3B6\, Canada
CATEGORIES:Drop-In Art Making,Halifax Events,Special Events
ATTACH;FMTTYPE=image/png:https://agns.ca/wp-content/uploads/2024/02/June-Make-Day-option-268.png
END:VEVENT
END:VCALENDAR