BEGIN:VCALENDAR
VERSION:2.0
PRODID:-//AGNS | Art Gallery of Nova Scotia - ECPv6.15.20//NONSGML v1.0//EN
CALSCALE:GREGORIAN
METHOD:PUBLISH
X-ORIGINAL-URL:https://agns.ca
X-WR-CALDESC:Events for AGNS | Art Gallery of Nova Scotia
REFRESH-INTERVAL;VALUE=DURATION:PT1H
X-Robots-Tag:noindex
X-PUBLISHED-TTL:PT1H
BEGIN:VTIMEZONE
TZID:America/Halifax
BEGIN:DAYLIGHT
TZOFFSETFROM:-0400
TZOFFSETTO:-0300
TZNAME:ADT
DTSTART:20230312T060000
END:DAYLIGHT
BEGIN:STANDARD
TZOFFSETFROM:-0300
TZOFFSETTO:-0400
TZNAME:AST
DTSTART:20231105T050000
END:STANDARD
BEGIN:DAYLIGHT
TZOFFSETFROM:-0400
TZOFFSETTO:-0300
TZNAME:ADT
DTSTART:20240310T060000
END:DAYLIGHT
BEGIN:STANDARD
TZOFFSETFROM:-0300
TZOFFSETTO:-0400
TZNAME:AST
DTSTART:20241103T050000
END:STANDARD
BEGIN:DAYLIGHT
TZOFFSETFROM:-0400
TZOFFSETTO:-0300
TZNAME:ADT
DTSTART:20250309T060000
END:DAYLIGHT
BEGIN:STANDARD
TZOFFSETFROM:-0300
TZOFFSETTO:-0400
TZNAME:AST
DTSTART:20251102T050000
END:STANDARD
END:VTIMEZONE
BEGIN:VEVENT
DTSTART;TZID=America/Halifax:20240312T100000
DTEND;TZID=America/Halifax:20240312T160000
DTSTAMP:20260421T132214
CREATED:20240304T195738Z
LAST-MODIFIED:20240308T153536Z
UID:10000085-1710237600-1710259200@agns.ca
SUMMARY:DIY Shoe Charms & Wonder'Neath Open Studio Stations - March Break with AGNS
DESCRIPTION:In partnership with Wonder’neath Art Studio we’re excited to welcome you to the beautiful studios at 2482 Maynard St. Drop in to make your own polymer clay charm for your foam shoes! While you’re there take in some of many activities in the Wonder’neath studio at their collage\, needle-felt\, and painting stations. All materials provided. \n\n\n\nTime slots are 10am-12pm & 1-4pm \n\n\n\nThis free art experience is ideally suited for school aged kids and older. All kids must be accompanied by a guardian.
URL:https://agns.ca/event/diy-shoe-charms-wonderneath-open-studio-stations-march-break-with-agns-2/
LOCATION:Wonder’neath Art Studio\, 2482 Maynard St\, Halifax\, Nova Scotia\, B3K 3V4\, Canada
CATEGORIES:Drop-In Art Making,Halifax Events,Special Events
ATTACH;FMTTYPE=image/png:https://agns.ca/wp-content/uploads/2024/03/Shoecharm28-e1709582056149.png
END:VEVENT
BEGIN:VEVENT
DTSTART;TZID=America/Halifax:20240312T120000
DTEND;TZID=America/Halifax:20240312T143000
DTSTAMP:20260421T132214
CREATED:20240229T125033Z
LAST-MODIFIED:20240304T200012Z
UID:10000079-1710244800-1710253800@agns.ca
SUMMARY:Painting Workshop at HSC - March Break with AGNS
DESCRIPTION:Join artist Meggie Richards at Halifax Shopping Centre for a free painting workshop for families with kids age 8+. Meggie will lead you through making your very own spring-inspired mixed media painting! Get creative using stencils\, paints\, markers and more! \n\n\n\nSessions are from 12-1pm and 1:30-2:30pm. All materials provided. \n\n\n\nThis event is free however space is limited so pre-registration is required. \n\n\n\n\nPre-Register Today\n\n\n\n\nAbout the Artist\n\n\n\nMeggie Richards is a queer\, interdisciplinary artist from Waverley\, Nova Scotia with a Bachelor of Fine Arts from NSCAD University. Richards has had solo exhibitions\, a residency at the Centre for Craft\, multiple group-shows\, and currently teaches in NSCAD’s extended studies program. Her work is bright\, colorful\, and abstract. Richards has a passion for teaching and sharing her technical skills. It is her belief that everyone has the ability to create and to find the power within that act.
URL:https://agns.ca/event/painting-workshop-at-hsc-march-break-with-agns/
LOCATION:Halifax Shopping Centre\, 7001 Mumford Rd\, Halifax\, Nova Scotia\, B3L 4R3\, Canada
CATEGORIES:Drop-In Art Making,Halifax Events,Special Events
ATTACH;FMTTYPE=image/png:https://agns.ca/wp-content/uploads/2024/02/image171-copy.png
END:VEVENT
END:VCALENDAR