BEGIN:VCALENDAR
VERSION:2.0
PRODID:-//AGNS | Art Gallery of Nova Scotia - ECPv6.15.20//NONSGML v1.0//EN
CALSCALE:GREGORIAN
METHOD:PUBLISH
X-ORIGINAL-URL:https://agns.ca
X-WR-CALDESC:Events for AGNS | Art Gallery of Nova Scotia
REFRESH-INTERVAL;VALUE=DURATION:PT1H
X-Robots-Tag:noindex
X-PUBLISHED-TTL:PT1H
BEGIN:VTIMEZONE
TZID:America/Halifax
BEGIN:DAYLIGHT
TZOFFSETFROM:-0400
TZOFFSETTO:-0300
TZNAME:ADT
DTSTART:20230312T060000
END:DAYLIGHT
BEGIN:STANDARD
TZOFFSETFROM:-0300
TZOFFSETTO:-0400
TZNAME:AST
DTSTART:20231105T050000
END:STANDARD
BEGIN:DAYLIGHT
TZOFFSETFROM:-0400
TZOFFSETTO:-0300
TZNAME:ADT
DTSTART:20240310T060000
END:DAYLIGHT
BEGIN:STANDARD
TZOFFSETFROM:-0300
TZOFFSETTO:-0400
TZNAME:AST
DTSTART:20241103T050000
END:STANDARD
BEGIN:DAYLIGHT
TZOFFSETFROM:-0400
TZOFFSETTO:-0300
TZNAME:ADT
DTSTART:20250309T060000
END:DAYLIGHT
BEGIN:STANDARD
TZOFFSETFROM:-0300
TZOFFSETTO:-0400
TZNAME:AST
DTSTART:20251102T050000
END:STANDARD
END:VTIMEZONE
BEGIN:VEVENT
DTSTART;TZID=America/Halifax:20240311T100000
DTEND;TZID=America/Halifax:20240311T160000
DTSTAMP:20260421T114401
CREATED:20240304T195604Z
LAST-MODIFIED:20240308T153510Z
UID:10000084-1710151200-1710172800@agns.ca
SUMMARY:DIY Shoe Charms & Wonder'Neath Open Studio Stations - March Break with AGNS
DESCRIPTION:In partnership with Wonder’neath Art Studio we’re excited to welcome you to the beautiful studios at 2482 Maynard St. Drop in to make your own polymer clay charm for your foam shoes! While you’re there take in some of many activities in the Wonder’neath studio at their collage\, needle-felt\, and painting stations. All materials provided. \n\n\n\nTime slots are 10am-12pm & 1-4pm \n\n\n\nThis free art experience is ideally suited for school aged kids and older. All kids must be accompanied by a guardian.
URL:https://agns.ca/event/diy-shoe-charms-wonderneath-open-studio-stations-march-break-with-agns/
LOCATION:Wonder’neath Art Studio\, 2482 Maynard St\, Halifax\, Nova Scotia\, B3K 3V4\, Canada
CATEGORIES:Drop-In Art Making,Halifax Events,Special Events
ATTACH;FMTTYPE=image/png:https://agns.ca/wp-content/uploads/2024/03/Shoecharm28-e1709582056149.png
END:VEVENT
END:VCALENDAR