BEGIN:VCALENDAR
VERSION:2.0
PRODID:-//AGNS | Art Gallery of Nova Scotia - ECPv6.15.20//NONSGML v1.0//EN
CALSCALE:GREGORIAN
METHOD:PUBLISH
X-ORIGINAL-URL:https://agns.ca
X-WR-CALDESC:Events for AGNS | Art Gallery of Nova Scotia
REFRESH-INTERVAL;VALUE=DURATION:PT1H
X-Robots-Tag:noindex
X-PUBLISHED-TTL:PT1H
BEGIN:VTIMEZONE
TZID:America/Halifax
BEGIN:DAYLIGHT
TZOFFSETFROM:-0400
TZOFFSETTO:-0300
TZNAME:ADT
DTSTART:20230312T060000
END:DAYLIGHT
BEGIN:STANDARD
TZOFFSETFROM:-0300
TZOFFSETTO:-0400
TZNAME:AST
DTSTART:20231105T050000
END:STANDARD
BEGIN:DAYLIGHT
TZOFFSETFROM:-0400
TZOFFSETTO:-0300
TZNAME:ADT
DTSTART:20240310T060000
END:DAYLIGHT
BEGIN:STANDARD
TZOFFSETFROM:-0300
TZOFFSETTO:-0400
TZNAME:AST
DTSTART:20241103T050000
END:STANDARD
BEGIN:DAYLIGHT
TZOFFSETFROM:-0400
TZOFFSETTO:-0300
TZNAME:ADT
DTSTART:20250309T060000
END:DAYLIGHT
BEGIN:STANDARD
TZOFFSETFROM:-0300
TZOFFSETTO:-0400
TZNAME:AST
DTSTART:20251102T050000
END:STANDARD
END:VTIMEZONE
BEGIN:VEVENT
DTSTART;TZID=America/Halifax:20240307T190000
DTEND;TZID=America/Halifax:20240307T200000
DTSTAMP:20260421T082756
CREATED:20240207T201037Z
LAST-MODIFIED:20240307T215659Z
UID:10000076-1709838000-1709841600@agns.ca
SUMMARY:Artist Talk: Séamus Gallagher
DESCRIPTION:Join us as 2023 Sobey Art Award finalist Séamus Gallagher speaks about their art practice as it ranges through photo\, video\, virtual reality\, and sculpture. They will discuss their most recent exhibitions at the McCord Stewart Museum and the National Gallery of Canada. \n\n\n\nRegistration is closed for this event\, however walk-ins are welcome.Location: Light House Arts Centre\, 1800 Argyle St.  \n\n\n\nASL services will be provided.  \n\n\n\n \n\n\n\n\n\n\n\n \n\n\n\nThis event is organized by the National Gallery of Canada\, Art Gallery of Nova Scotia and the Sobey Art Foundation.
URL:https://agns.ca/event/artist-talk-seamus-gallagher/
CATEGORIES:Artist Talk,Halifax Events,Special Events
ATTACH;FMTTYPE=image/jpeg:https://agns.ca/wp-content/uploads/2024/02/SeamusGallaghe_photo.jpg
END:VEVENT
END:VCALENDAR