BEGIN:VCALENDAR
VERSION:2.0
PRODID:-//AGNS | Art Gallery of Nova Scotia - ECPv6.15.20//NONSGML v1.0//EN
CALSCALE:GREGORIAN
METHOD:PUBLISH
X-ORIGINAL-URL:https://agns.ca
X-WR-CALDESC:Events for AGNS | Art Gallery of Nova Scotia
REFRESH-INTERVAL;VALUE=DURATION:PT1H
X-Robots-Tag:noindex
X-PUBLISHED-TTL:PT1H
BEGIN:VTIMEZONE
TZID:America/Halifax
BEGIN:DAYLIGHT
TZOFFSETFROM:-0400
TZOFFSETTO:-0300
TZNAME:ADT
DTSTART:20220313T060000
END:DAYLIGHT
BEGIN:STANDARD
TZOFFSETFROM:-0300
TZOFFSETTO:-0400
TZNAME:AST
DTSTART:20221106T050000
END:STANDARD
BEGIN:DAYLIGHT
TZOFFSETFROM:-0400
TZOFFSETTO:-0300
TZNAME:ADT
DTSTART:20230312T060000
END:DAYLIGHT
BEGIN:STANDARD
TZOFFSETFROM:-0300
TZOFFSETTO:-0400
TZNAME:AST
DTSTART:20231105T050000
END:STANDARD
BEGIN:DAYLIGHT
TZOFFSETFROM:-0400
TZOFFSETTO:-0300
TZNAME:ADT
DTSTART:20240310T060000
END:DAYLIGHT
BEGIN:STANDARD
TZOFFSETFROM:-0300
TZOFFSETTO:-0400
TZNAME:AST
DTSTART:20241103T050000
END:STANDARD
BEGIN:DAYLIGHT
TZOFFSETFROM:-0400
TZOFFSETTO:-0300
TZNAME:ADT
DTSTART:20250309T060000
END:DAYLIGHT
BEGIN:STANDARD
TZOFFSETFROM:-0300
TZOFFSETTO:-0400
TZNAME:AST
DTSTART:20251102T050000
END:STANDARD
END:VTIMEZONE
BEGIN:VEVENT
DTSTART;TZID=America/Halifax:20231119T080000
DTEND;TZID=America/Halifax:20240114T170000
DTSTAMP:20260422T050331
CREATED:20231128T142039Z
LAST-MODIFIED:20231128T142041Z
UID:10000071-1700380800-1705251600@agns.ca
SUMMARY:Drop-In Art Activity
DESCRIPTION:Create\, share\, curate in this interactive mini-gallery space for visitors! \n\n\n\nCollections tell stories about communities\, people\, and places. Art museums preserve and care for artworks so generations of people can learn from\, engage with\, and be inspired by them. \n\n\n\nCreate your own art and add it to the Shared Collection. Look through the collection and select other visitors’ artworks to display – creating your own exhibition. Always something different to see so come back often! \n\n\n\nThis drop-in art making space is open during regular Gallery hours and is included in the price of admission.
URL:https://agns.ca/event/drop-in-art-activity/
CATEGORIES:Drop-In Art Making,Halifax Events
ATTACH;FMTTYPE=image/png:https://agns.ca/wp-content/uploads/2023/11/IMG_196011.png
END:VEVENT
BEGIN:VEVENT
DTSTART;TZID=America/Halifax:20231119T130000
DTEND;TZID=America/Halifax:20231119T160000
DTSTAMP:20260422T050331
CREATED:20230831T150749Z
LAST-MODIFIED:20230831T150750Z
UID:10000047-1700398800-1700409600@agns.ca
SUMMARY:Make Day! Memory Portraits
DESCRIPTION:Thinking about memory\, portraiture\, and family\, explore painting in the style of Jean Paul Lemieux. Working from a photo of your choosing- with people as a subject\, you will create works of art based on a family photo\, special memory\, or meaningful place.  Bring your own printed photo or digital file\, or paint from your imagination to create a painting you’ll never forget! \n\n\n\nWork independently\, or with your small group\, this program is great for children ages 5+ with an adult. Drop-in\, included with the price of admission. \n\n\n\nAbout the program: \n\n\n\nMake Day is a studio program for emerging artists of all ages! Designed as an intergenerational art workshop\, these sessions lead participants in a short art lesson that introduces an art technique or process\, resulting in a fun art piece you can take home. A great way to get connected\, inspired\, and creative with friends or family. Each month’s activity is inspired by works in an exhibition currently on view.
URL:https://agns.ca/event/make-day-memory-portraits/
CATEGORIES:Drop-In Art Making,Halifax Events,Make Day!
ATTACH;FMTTYPE=image/png:https://agns.ca/wp-content/uploads/2023/08/memory-portraits-make-day-image-option-115.png
END:VEVENT
END:VCALENDAR