BEGIN:VCALENDAR
VERSION:2.0
PRODID:-//AGNS | Art Gallery of Nova Scotia - ECPv6.15.20//NONSGML v1.0//EN
CALSCALE:GREGORIAN
METHOD:PUBLISH
X-WR-CALNAME:AGNS | Art Gallery of Nova Scotia
X-ORIGINAL-URL:https://agns.ca
X-WR-CALDESC:Events for AGNS | Art Gallery of Nova Scotia
REFRESH-INTERVAL;VALUE=DURATION:PT1H
X-Robots-Tag:noindex
X-PUBLISHED-TTL:PT1H
BEGIN:VTIMEZONE
TZID:America/Halifax
BEGIN:DAYLIGHT
TZOFFSETFROM:-0400
TZOFFSETTO:-0300
TZNAME:ADT
DTSTART:20220313T060000
END:DAYLIGHT
BEGIN:STANDARD
TZOFFSETFROM:-0300
TZOFFSETTO:-0400
TZNAME:AST
DTSTART:20221106T050000
END:STANDARD
BEGIN:DAYLIGHT
TZOFFSETFROM:-0400
TZOFFSETTO:-0300
TZNAME:ADT
DTSTART:20230312T060000
END:DAYLIGHT
BEGIN:STANDARD
TZOFFSETFROM:-0300
TZOFFSETTO:-0400
TZNAME:AST
DTSTART:20231105T050000
END:STANDARD
BEGIN:DAYLIGHT
TZOFFSETFROM:-0400
TZOFFSETTO:-0300
TZNAME:ADT
DTSTART:20240310T060000
END:DAYLIGHT
BEGIN:STANDARD
TZOFFSETFROM:-0300
TZOFFSETTO:-0400
TZNAME:AST
DTSTART:20241103T050000
END:STANDARD
END:VTIMEZONE
BEGIN:VEVENT
DTSTART;TZID=America/Halifax:20231022T130000
DTEND;TZID=America/Halifax:20231022T160000
DTSTAMP:20260423T145423
CREATED:20230831T150416Z
LAST-MODIFIED:20230831T150417Z
UID:10000054-1697979600-1697990400@agns.ca
SUMMARY:Make Day! Paper Weaving
DESCRIPTION:Practise weaving in our studios! Use colourful papers to create your own designs and learn techniques inspired by Mi’kmaw basketry. Get inspired by etchings of Mi’kmaw basketry and the words for each technique\, in Ursula Johnson’s artwork Museological Grand Hall\, on view in Generations: The Sobey Family and Canadian Art. \n\n\n\nWork independently\, or with your small group\, this program is great for children ages 5+ with an adult. Drop-in\, included with the price of admission. \n\n\n\nAbout the program: \n\n\n\nMake Day is a studio program for emerging artists of all ages! Designed as an intergenerational art workshop\, these sessions lead participants in a short art lesson that introduces an art technique or process\, resulting in a fun art piece you can take home. A great way to get connected\, inspired\, and creative with friends or family. Each month’s activity is inspired by works in an exhibition currently on view.
URL:https://agns.ca/event/make-day-paper-weaving/
CATEGORIES:Drop-In Art Making,Halifax Events,Make Day!
ATTACH;FMTTYPE=image/png:https://agns.ca/wp-content/uploads/2023/08/paper-weaving-make-day-image-option-242.png
END:VEVENT
END:VCALENDAR