BEGIN:VCALENDAR
VERSION:2.0
PRODID:-//AGNS | Art Gallery of Nova Scotia - ECPv6.15.20//NONSGML v1.0//EN
CALSCALE:GREGORIAN
METHOD:PUBLISH
X-WR-CALNAME:AGNS | Art Gallery of Nova Scotia
X-ORIGINAL-URL:https://agns.ca
X-WR-CALDESC:Events for AGNS | Art Gallery of Nova Scotia
REFRESH-INTERVAL;VALUE=DURATION:PT1H
X-Robots-Tag:noindex
X-PUBLISHED-TTL:PT1H
BEGIN:VTIMEZONE
TZID:America/Halifax
BEGIN:DAYLIGHT
TZOFFSETFROM:-0400
TZOFFSETTO:-0300
TZNAME:ADT
DTSTART:20220313T060000
END:DAYLIGHT
BEGIN:STANDARD
TZOFFSETFROM:-0300
TZOFFSETTO:-0400
TZNAME:AST
DTSTART:20221106T050000
END:STANDARD
BEGIN:DAYLIGHT
TZOFFSETFROM:-0400
TZOFFSETTO:-0300
TZNAME:ADT
DTSTART:20230312T060000
END:DAYLIGHT
BEGIN:STANDARD
TZOFFSETFROM:-0300
TZOFFSETTO:-0400
TZNAME:AST
DTSTART:20231105T050000
END:STANDARD
BEGIN:DAYLIGHT
TZOFFSETFROM:-0400
TZOFFSETTO:-0300
TZNAME:ADT
DTSTART:20240310T060000
END:DAYLIGHT
BEGIN:STANDARD
TZOFFSETFROM:-0300
TZOFFSETTO:-0400
TZNAME:AST
DTSTART:20241103T050000
END:STANDARD
END:VTIMEZONE
BEGIN:VEVENT
DTSTART;TZID=America/Halifax:20231014T180000
DTEND;TZID=America/Halifax:20231014T235900
DTSTAMP:20260423T175638
CREATED:20230921T152527Z
LAST-MODIFIED:20231005T165159Z
UID:10000067-1697306400-1697327940@agns.ca
SUMMARY:Nocturne at AGNS
DESCRIPTION:Visit the Gallery during Nocturne and check out part of Generations: The Sobey Family and Canadian Art\, play in the studio and take in the Nocturne installations on view for one night only. \n\n\n\nStudio Activity: \n\n\n\nWe all have stories to tell\, so bring your perspective and pick up a brush! In this drop-in studio activity\, get inspired by the artworks on view during Nocturne. Make your own work of art\, add it to our display or take it home to enjoy.  Using paints\, drawing materials and collage\, this activity is great for all ages! \n\n\n\nExhibition on View:  \n\n\n\nGenerations: The Sobey Family and Canadian Art tells the story of one family’s visionary engagement with Canadian and Indigenous art\, braiding together works by early European newcomers like Cornelius Krieghoff; titans of Canadian 20th century art\, the Group of Seven\, Tom Thomson\, David Milne and Emily Carr; a rich display of works by the Quebec Impressionists\, as well as Automatiste painters Jean Paul Riopelle and Paul-Émile Borduas; and works by trail-blazing artists of today\, including contemporary Indigenous artists Kent Monkman\, Brenda Draney\, Brian Jungen and Annie Pootoogook\, as well as leading international artist Peter Doig. A recurring theme in the exhibition is the North Atlantic\, its role in history\, and its impact on artists’ imaginations. \n\n\n\nCurated by Sarah Milroy\, Generations: The Sobey Family and Canadian Art is organized and circulated by McMichael Canadian Art Collection with special thanks to Sobey Art Foundation and Empire Company Limited. \n\n\n\nNocturne Projects: \n\n\n\nBeacon Project – BLACKOUT 2.0 by Erasure Art CollectiveBLACKOUT 2.0 is an interdisciplinary project that recreates historical slave ads using ‘erasure’ or ‘blackout’ poetry.Installation 6pm – midnightPerformance times 7pm\, 8pm\, and 9pm \n\n\n\nSpotlight – Echoes Calling Back by Jordan BennettEchoes Calling Back by multidisciplinary Indigenous artist\, Jordan Bennett (Mi’kmaw\, Ktaqmkuk)\, is a public art installation and activation that engages with ideas of history\, geography\, space and connectivity.  \n\n\n\nInstallation – Blueberry Cake by Melissa Peter PaulMi’kmaw Quill Artist from Abegweit First Nation\, located in Epekwitk (PEI)\, Melissa Peter Paul ignites/mobilizes Mi’kmaw worldview by overlaying urban spaces such as the courtyard with Mi’kmaw quillwork designs. 
URL:https://agns.ca/event/nocturne-at-agns/
CATEGORIES:Art-Making,Drop-In Art Making,Halifax Events,Special Events
ATTACH;FMTTYPE=image/jpeg:https://agns.ca/wp-content/uploads/2023/09/2022-10-15-AGNS-DeanCas_CAS1861-scaled.jpg
END:VEVENT
END:VCALENDAR