BEGIN:VCALENDAR
VERSION:2.0
PRODID:-//AGNS | Art Gallery of Nova Scotia - ECPv6.15.20//NONSGML v1.0//EN
CALSCALE:GREGORIAN
METHOD:PUBLISH
X-ORIGINAL-URL:https://agns.ca
X-WR-CALDESC:Events for AGNS | Art Gallery of Nova Scotia
REFRESH-INTERVAL;VALUE=DURATION:PT1H
X-Robots-Tag:noindex
X-PUBLISHED-TTL:PT1H
BEGIN:VTIMEZONE
TZID:UTC
BEGIN:STANDARD
TZOFFSETFROM:+0000
TZOFFSETTO:+0000
TZNAME:UTC
DTSTART:20220101T000000
END:STANDARD
END:VTIMEZONE
BEGIN:VEVENT
DTSTART;TZID=UTC:20230929T190000
DTEND;TZID=UTC:20230929T213000
DTSTAMP:20260423T145802
CREATED:20230829T184509Z
LAST-MODIFIED:20230918T172212Z
UID:10000058-1696014000-1696023000@agns.ca
SUMMARY:Painting & Pints: Maud Lewis - Tulips
DESCRIPTION:Everyone is an artist at the AGNS’s adult paint night! Join artist Meggie Richards for a fun evening at the gallery\, as she guides you through making a Maud Lewis-inspired painting you’ll be proud to take home at the end of the evening. On this date you’ll be painting tulips\, inspired by Maud’s Tulips painting. \n\n\n\nDrinks will be available for purchase\, with ID. All materials provided- everything you need to create a one-of-a-kind painting. Bring your friends and come have a blast! 19+ \n\n\n\n\nGet Your Tickets!\n\n\n\n\n\n\n\n\n\n\nAs painted by artist Meggie Richards.
URL:https://agns.ca/event/painting-pints-maud-lewis-paint-night-tulips-2/
CATEGORIES:Adult-Only,Halifax Events
ATTACH;FMTTYPE=image/png:https://agns.ca/wp-content/uploads/2023/04/paint-along-option-3-with-cat.png
END:VEVENT
END:VCALENDAR