BEGIN:VCALENDAR
VERSION:2.0
PRODID:-//AGNS | Art Gallery of Nova Scotia - ECPv6.15.20//NONSGML v1.0//EN
CALSCALE:GREGORIAN
METHOD:PUBLISH
X-ORIGINAL-URL:https://agns.ca
X-WR-CALDESC:Events for AGNS | Art Gallery of Nova Scotia
REFRESH-INTERVAL;VALUE=DURATION:PT1H
X-Robots-Tag:noindex
X-PUBLISHED-TTL:PT1H
BEGIN:VTIMEZONE
TZID:America/Halifax
BEGIN:DAYLIGHT
TZOFFSETFROM:-0400
TZOFFSETTO:-0300
TZNAME:ADT
DTSTART:20220313T060000
END:DAYLIGHT
BEGIN:STANDARD
TZOFFSETFROM:-0300
TZOFFSETTO:-0400
TZNAME:AST
DTSTART:20221106T050000
END:STANDARD
BEGIN:DAYLIGHT
TZOFFSETFROM:-0400
TZOFFSETTO:-0300
TZNAME:ADT
DTSTART:20230312T060000
END:DAYLIGHT
BEGIN:STANDARD
TZOFFSETFROM:-0300
TZOFFSETTO:-0400
TZNAME:AST
DTSTART:20231105T050000
END:STANDARD
BEGIN:DAYLIGHT
TZOFFSETFROM:-0400
TZOFFSETTO:-0300
TZNAME:ADT
DTSTART:20240310T060000
END:DAYLIGHT
BEGIN:STANDARD
TZOFFSETFROM:-0300
TZOFFSETTO:-0400
TZNAME:AST
DTSTART:20241103T050000
END:STANDARD
END:VTIMEZONE
BEGIN:VEVENT
DTSTART;TZID=America/Halifax:20230914T173000
DTEND;TZID=America/Halifax:20230914T183000
DTSTAMP:20260423T210735
CREATED:20230828T141255Z
LAST-MODIFIED:20230828T141257Z
UID:10000056-1694712600-1694716200@agns.ca
SUMMARY:French Tour - Arctic/Amazon
DESCRIPTION:In partnership with Alliance Francais Halifax\, we invite you to join a guided tour of the exhibition Arctic/Amazon: Networks of Global Indigeneity in French. Admission is free during BMO Free Access Thursday\, however registration through AFH is encouraged. Please visit EXPOSITION : ARTIC / AMAZON VISITE GUIDÉE EN FRANÇAIS for more information about Alliance Francais.
URL:https://agns.ca/event/french-tour-arctic-amazon/
CATEGORIES:Halifax Events,Special Events
ATTACH;FMTTYPE=image/png:https://agns.ca/wp-content/uploads/2023/08/Exhibit-tour-sept14-in-French-bilingual30.png
END:VEVENT
BEGIN:VEVENT
DTSTART;TZID=America/Halifax:20230914T174500
DTEND;TZID=America/Halifax:20230914T200000
DTSTAMP:20260423T210735
CREATED:20230801T131301Z
LAST-MODIFIED:20230801T131302Z
UID:10000044-1694713500-1694721600@agns.ca
SUMMARY:Western Branch Exhibition Celebration
DESCRIPTION:Join us for a special presentation by artists featured in Inner/Outer Space as we celebrate the Art Gallery of Nova Scotia – Western Branch.  \n\n\n\nDoors open at 5:45pm\, remarks and presentation at 6pmReception to followWestern Branch\, AGNS – 341 Main Street\, Yarmouth \n\n\n\nRSVP by September 11 to rsvp@agns.ca
URL:https://agns.ca/event/western-branch-exhibition-celebration/
CATEGORIES:Artist Talk,Special Events,Yarmouth Events
ATTACH;FMTTYPE=image/png:https://agns.ca/wp-content/uploads/2023/08/64107ec3-b71e-95c0-7034-487f8d95d7ad.png
END:VEVENT
END:VCALENDAR