BEGIN:VCALENDAR
VERSION:2.0
PRODID:-//AGNS | Art Gallery of Nova Scotia - ECPv6.15.20//NONSGML v1.0//EN
CALSCALE:GREGORIAN
METHOD:PUBLISH
X-WR-CALNAME:AGNS | Art Gallery of Nova Scotia
X-ORIGINAL-URL:https://agns.ca
X-WR-CALDESC:Events for AGNS | Art Gallery of Nova Scotia
REFRESH-INTERVAL;VALUE=DURATION:PT1H
X-Robots-Tag:noindex
X-PUBLISHED-TTL:PT1H
BEGIN:VTIMEZONE
TZID:America/Halifax
BEGIN:DAYLIGHT
TZOFFSETFROM:-0400
TZOFFSETTO:-0300
TZNAME:ADT
DTSTART:20220313T060000
END:DAYLIGHT
BEGIN:STANDARD
TZOFFSETFROM:-0300
TZOFFSETTO:-0400
TZNAME:AST
DTSTART:20221106T050000
END:STANDARD
BEGIN:DAYLIGHT
TZOFFSETFROM:-0400
TZOFFSETTO:-0300
TZNAME:ADT
DTSTART:20230312T060000
END:DAYLIGHT
BEGIN:STANDARD
TZOFFSETFROM:-0300
TZOFFSETTO:-0400
TZNAME:AST
DTSTART:20231105T050000
END:STANDARD
BEGIN:DAYLIGHT
TZOFFSETFROM:-0400
TZOFFSETTO:-0300
TZNAME:ADT
DTSTART:20240310T060000
END:DAYLIGHT
BEGIN:STANDARD
TZOFFSETFROM:-0300
TZOFFSETTO:-0400
TZNAME:AST
DTSTART:20241103T050000
END:STANDARD
END:VTIMEZONE
BEGIN:VEVENT
DTSTART;TZID=America/Halifax:20230611T100000
DTEND;TZID=America/Halifax:20230611T160000
DTSTAMP:20260424T020109
CREATED:20230517T151627Z
LAST-MODIFIED:20230517T151710Z
UID:10000036-1686477600-1686499200@agns.ca
SUMMARY:Make Day! Fishhook Sculptures
DESCRIPTION:Create your own unique sculpture inspired by the work of artist Couzyn van Heuvelen. Exploring scale\, you’ll design your own fishhook sculptures with decorated with bright beads\, paint and more! Make something mini or big; the choice is yours! \n\n\n\nWork independently\, or with your small group\, this program is great for children ages 5+ with an adult. Included with the price of admission. \n\n\n\nAbout the program: \n\n\n\nMake Day is a studio program for emerging artists of all ages! Designed as an intergenerational art workshop\, these sessions lead participants in a short art lesson that introduces an art technique or process\, resulting in a fun art piece you can take home. A great way to get connected\, inspired\, and creative with friends or family. \n\n\n\nAbout the artist: \n\n\n\nNatalie Laurin (she/her) is a Métis and settler illustrator and interdisciplinary designer. Her goals to inspire youth and connect with community are centred around a collaborative and education-based practice. She hopes to continue this work by illustrating Indigenous children’s books—her most recent illustration project being Andy’s Tribal Canoe Journey published by Strong Nations.
URL:https://agns.ca/event/make-day-fishhook-sculptures/
CATEGORIES:Drop-In Art Making,Halifax Events,Make Day!
ATTACH;FMTTYPE=image/png:https://agns.ca/wp-content/uploads/2023/05/June-Make-Day-example42.png
END:VEVENT
END:VCALENDAR