BEGIN:VCALENDAR
VERSION:2.0
PRODID:-//AGNS | Art Gallery of Nova Scotia - ECPv6.15.20//NONSGML v1.0//EN
CALSCALE:GREGORIAN
METHOD:PUBLISH
X-WR-CALNAME:AGNS | Art Gallery of Nova Scotia
X-ORIGINAL-URL:https://agns.ca
X-WR-CALDESC:Events for AGNS | Art Gallery of Nova Scotia
REFRESH-INTERVAL;VALUE=DURATION:PT1H
X-Robots-Tag:noindex
X-PUBLISHED-TTL:PT1H
BEGIN:VTIMEZONE
TZID:UTC
BEGIN:STANDARD
TZOFFSETFROM:+0000
TZOFFSETTO:+0000
TZNAME:UTC
DTSTART:20210101T000000
END:STANDARD
END:VTIMEZONE
BEGIN:VEVENT
DTSTART;TZID=UTC:20221126T100000
DTEND;TZID=UTC:20230514T170000
DTSTAMP:20260422T090536
CREATED:20230121T130936Z
LAST-MODIFIED:20230426T160959Z
UID:10000014-1669456800-1684083600@agns.ca
SUMMARY:OUR PAINTED HOUSE
DESCRIPTION:Check out Our Painted House at the Gallery! \n\n\n\nThis drop-in activity is inspired by Maud Lewis’ iconic Painted House. Using a variety of materials\, you are invited to create your own artwork shingle to add to the painted house\, an almost-to-scale image of Maud’s home. Inspired by Maud’s keen observation of the world around her\, create something that reflects on these ideas: \n\n\n\n\nWhat do you notice outside your window\, at home\, or in your community?\n\n\n\nWhat are the things that are important to you?\n\n\n\nWhat patterns\, designs\, or images tell a story about your interests?\n\n\n\n\nThis project will run from November 2022 until May 2023 and will bring together hundreds of individual adorned shingles by visitors to the Gallery\, creating a large\, colourful installation-a reimagining of Maud Lewis’ Painted House and our collective communities.
URL:https://agns.ca/event/our-painted-house/
CATEGORIES:Halifax Events
ATTACH;FMTTYPE=image/jpeg:https://agns.ca/wp-content/uploads/2023/01/OurPaintedHouse_sq-crop-1.jpg
END:VEVENT
BEGIN:VEVENT
DTSTART;TZID=UTC:20230114T100000
DTEND;TZID=UTC:20230209T150000
DTSTAMP:20260422T090536
CREATED:20230121T132619Z
LAST-MODIFIED:20230207T161811Z
UID:10000015-1673690400-1675954800@agns.ca
SUMMARY:Make It Like Maud: Painting Class Series
DESCRIPTION:Join us this winter for kid’s painting classes at the Gallery. This 4-week workshop series\, led by artist-educator\, Rosemary Clarke Young\, will inspire young creatives\, while they learn new painting techniques and have fun! Each artmaking class will begin with a visit to the Maud Lewis Gallery to learn about her work before returning to the studios to create their own colorful painting! Ages 5-12\, all materials included. \n\n\n\nWorkshop \n\n\n\nEvery Saturday from January 14th to February 4th\, 2023. \n\n\n\n\n10am -12pm for ages 5-8 – Sold Out\n\n\n\n1pm-3pm for ages 9-12 – Sold Out\n\n\n\n\nThe workshop series is $100 for four sessions. Each class is 2 hours long. Pre-registration is required. If you need to cancel\, a $10 cancelation fee will apply for a refund. Please submit any cancelation requests in writing to info@agns.arrdev.ca. \n\n\n\nAbout the Artist\n\n\n\nBedford artist and educator Rosemary Clarke Young has taught children’s art classes\, both privately in her home studio and in local schools since 2008. Though mostly retired from teaching now\, she does occasional workshops and AGNS art camps. She works in watercolour batik\, oil\, pastel and encaustic and exhibits her work in galleries and shows\, primarily in the Maritimes\, including the Teichert Gallery.
URL:https://agns.ca/event/make-it-like-maud-painting-class-series/
CATEGORIES:Halifax Events
ATTACH;FMTTYPE=image/jpeg:https://agns.ca/wp-content/uploads/2023/01/IMG_8057edit.jpg
END:VEVENT
BEGIN:VEVENT
DTSTART;TZID=UTC:20230119T190000
DTEND;TZID=UTC:20230119T200000
DTSTAMP:20260422T090536
CREATED:20230121T133217Z
LAST-MODIFIED:20230121T145824Z
UID:10000016-1674154800-1674158400@agns.ca
SUMMARY:Artist Talk: Tyshan Wright\, Traditional Craft Meets Contemporary Art
DESCRIPTION:This event is sold out. \n\n\n\nTyshan Wright is the 2022 Sobey Art Award finalist representing the Atlantic region. He describes his practice as working from his cultural traditions\, those of the Jamaican Maroons. Jamaican Maroons are descendants of Africans who resisted slavery and formed their own independent communities in the mountains of Jamaica in the 1600s. \n\n\n\nBased in Halifax\, Wright considers the Jamaican Maroons exiled to this same city in 1796 and asks; What did they do here? How did they keep ceremony in this new place? Wright will discuss his practice\, the cultural and ceremonial nature of his artwork\, as well as his installation in the 2022 Sobey Art Award exhibition at the National Gallery of Canada. \n\n\n\n\nRegister for Artist Talk\n\n\n\n\n \n\n\n\nRegistration is required for this event. Limited availability. \n\n\n\nThis event is organized by the National Gallery of Canada\, Art Gallery of Nova Scotia and the Sobey Art Foundation.
URL:https://agns.ca/event/artist-talk-tyshan-wright-traditional-craft-meets-contemporary-art/
CATEGORIES:Halifax Events
ATTACH;FMTTYPE=image/jpeg:https://agns.ca/wp-content/uploads/2023/01/Sobey-AGNS_Tyshan_Newsletter.jpg
END:VEVENT
END:VCALENDAR